BEGIN:VCALENDAR
VERSION:2.0
PRODID:-//Butter.ATL - ECPv5.2.1//NONSGML v1.0//EN
CALSCALE:GREGORIAN
METHOD:PUBLISH
X-WR-CALNAME:Butter.ATL
X-ORIGINAL-URL:https://butteratl.com
X-WR-CALDESC:Events for Butter.ATL
BEGIN:VTIMEZONE
TZID:America/New_York
BEGIN:DAYLIGHT
TZOFFSETFROM:-0500
TZOFFSETTO:-0400
TZNAME:EDT
DTSTART:20230312T070000
END:DAYLIGHT
BEGIN:STANDARD
TZOFFSETFROM:-0400
TZOFFSETTO:-0500
TZNAME:EST
DTSTART:20231105T060000
END:STANDARD
END:VTIMEZONE
BEGIN:VEVENT
DTSTART;TZID=America/New_York:20230803T000000
DTEND;TZID=America/New_York:20230803T000000
DTSTAMP:20260423T121338
CREATED:20230731T201622Z
LAST-MODIFIED:20230731T201622Z
UID:5519-1691020800-1691020800@butteratl.com
SUMMARY:Atlanta Underground Film Festival
DESCRIPTION:The 2023 Annual Atlanta Underground Film Festival will be held indoors and outdoors at RoleCall Theater at Ponce City Market. Since 2004\, the Atlanta Underground Film Festival (AUFF) has served as a forum where independent filmmakers thrive outside the mainstream arena.
URL:https://butteratl.com/event/atlanta-underground-film-festival/
LOCATION:675 Ponce De Leon Avenue NE Suite E186 Atlanta GA 30308-____
END:VEVENT
BEGIN:VEVENT
DTSTART;TZID=America/New_York:20230805T080000
DTEND;TZID=America/New_York:20230805T100000
DTSTAMP:20260423T121338
CREATED:20230731T202041Z
LAST-MODIFIED:20230731T202041Z
UID:5532-1691222400-1691229600@butteratl.com
SUMMARY:Run for East Lake 5K
DESCRIPTION:The East Lake Foundation is thrilled to bring back the Run for East Lake 5K
URL:https://butteratl.com/event/run-for-east-lake-5k/
LOCATION:300 Eva Davis Way  Atlanta GA 30317
END:VEVENT
BEGIN:VEVENT
DTSTART;TZID=America/New_York:20230805T110000
DTEND;TZID=America/New_York:20230805T140000
DTSTAMP:20260423T121338
CREATED:20230731T202304Z
LAST-MODIFIED:20230731T202304Z
UID:5540-1691233200-1691244000@butteratl.com
SUMMARY:Safe At Home Baseball Game
DESCRIPTION:In its 9th year\, the Safe at Home Game presented by L.E.A.D. Center For Youth and APIVEO is a self-officiated\, 7-inning baseball game in a competitive environment to develop trust and respect among citizens in Atlanta\’s Black community and Atlanta law enforcement officers.Join us on Saturday\, August 5th\, as APS Police Department\, Georgia Tech Police Department join the Fulton County Sheriff\’s Office and APD to play against the L.E.A.D. Ambassadors. The game will be played at Georgia Tech Russ Chandler Stadium in Atlanta\, GA. Gates open at 10AM and this event is free to attend.The Safe at Home Game is creating a paradigm shift within the Atlanta community. Its growth
URL:https://butteratl.com/event/safe-at-home-baseball-game/
LOCATION:Paper Tricentennial Building 500 Tenth Street NW Atlanta GA 30318
END:VEVENT
BEGIN:VEVENT
DTSTART;TZID=America/New_York:20230805T180000
DTEND;TZID=America/New_York:20230805T210000
DTSTAMP:20260423T121338
CREATED:20230731T201102Z
LAST-MODIFIED:20230731T201622Z
UID:5510-1691258400-1691269200@butteratl.com
SUMMARY:Sunset Jazz Festival with David Sanborn\, Robert Glasper
DESCRIPTION:Enjoy Sunset Jazz Festival on Saturday August 5 with musical performances by David Sanborn and Robert Glasper!
URL:https://butteratl.com/event/sunset-jazz-festival-with-david-sanborn-robert-glasper/
LOCATION:4469 Stella Dr NW  Atlanta GA 30342
END:VEVENT
BEGIN:VEVENT
DTSTART;TZID=America/New_York:20230805T203000
DTEND;TZID=America/New_York:20230805T213000
DTSTAMP:20260423T121338
CREATED:20230731T202211Z
LAST-MODIFIED:20230731T202211Z
UID:5536-1691267400-1691271000@butteratl.com
SUMMARY:Rise and Dine with the Animals
DESCRIPTION:ARE YOU CRAVING SOME ANIMAL TIME BEFORE THE ZOO OPENS TO THE PUBLIC? Join us to Rise and Dine with the Animals\, where you can enjoy a catered breakfast* by Proof of the Pudding while also enjoying an early morning view of the animals as they get ready to start their day. Each program will include an educational component to learn more about the species\, time with an Animal Care Professional to hear about the individuals in their care\, a memorable takeaway connected to the featured animal\, and Zoo admission to stay and enjoy the Zoo at the end of the program.  August 5: Reptiles and Amphibians - Take your breakfast to the next level\, surrounded by extremes in the animal kingdom. Dine in Georgia extremes\, viewing the reptiles\, amphibians and fish and exploring biofacts and activities. After you eat your breakfast\, we’ll check in with the Aldabra tortoises and the Animal Care Team to see how they start their day! 
URL:https://butteratl.com/event/rise-and-dine-with-the-animals/
LOCATION:800 Cherokee Avenue\, S.E.  Atlanta GA 30315
END:VEVENT
END:VCALENDAR