BEGIN:VCALENDAR
VERSION:2.0
PRODID:-//Butter.ATL - ECPv5.2.1//NONSGML v1.0//EN
CALSCALE:GREGORIAN
METHOD:PUBLISH
X-WR-CALNAME:Butter.ATL
X-ORIGINAL-URL:https://butteratl.com
X-WR-CALDESC:Events for Butter.ATL
BEGIN:VTIMEZONE
TZID:America/New_York
BEGIN:DAYLIGHT
TZOFFSETFROM:-0500
TZOFFSETTO:-0400
TZNAME:EDT
DTSTART:20220313T070000
END:DAYLIGHT
BEGIN:STANDARD
TZOFFSETFROM:-0400
TZOFFSETTO:-0500
TZNAME:EST
DTSTART:20221106T060000
END:STANDARD
END:VTIMEZONE
BEGIN:VEVENT
DTSTART;TZID=America/New_York:20220901T170000
DTEND;TZID=America/New_York:20220905T170000
DTSTAMP:20260424T034703
CREATED:20220901T021836Z
LAST-MODIFIED:20220901T021836Z
UID:5442-1662051600-1662397200@butteratl.com
SUMMARY:Dragon Con
DESCRIPTION:Dragon Con is the largest multimedia\, popular culture convention focusing on science fiction & fantasy\, gaming\, comics\, literature\, art\, music\, and film in the universe.
URL:https://butteratl.com/event/dragon-con/
LOCATION:Downtown Atlanta\, Peachtree Street\, Atlanta\, GA\, 30303\, United States
CATEGORIES:Community,Festival
ATTACH;FMTTYPE=image/png:https://butteratl.com/wp-content/uploads/2022/08/DragonCon_logo.png
GEO:33.7532591;-84.3911693
X-APPLE-STRUCTURED-LOCATION;VALUE=URI;X-ADDRESS=Downtown Atlanta Peachtree Street Atlanta GA 30303 United States;X-APPLE-RADIUS=500;X-TITLE=Peachtree Street:geo:-84.3911693,33.7532591
END:VEVENT
BEGIN:VEVENT
DTSTART;VALUE=DATE:20220903
DTEND;VALUE=DATE:20220906
DTSTAMP:20260424T034703
CREATED:20220901T022425Z
LAST-MODIFIED:20220901T022425Z
UID:5449-1662163200-1662422399@butteratl.com
SUMMARY:Art in the Park
DESCRIPTION:The Marietta Art in the Park festival\, a Labor Day tradition\, is the only fine art festival held in Cobb County. The festival features 175 fine artists both local and national artists\, the Chalk Spot-a street chalk art display and the Children’s Art Alley-with plenty of free art stations. Stroll through the park\, buy one of a kind art pieces\, visit the art galleries or museums\, dine in one of the many wonderful restaurants all are located in and around Glover Park on the Marietta Square.
URL:https://butteratl.com/event/art-in-the-park/
LOCATION:Marietta Square\, 117 North Park Square\, Marietta\, GA\, 30060\, United States
CATEGORIES:Community,Festival,Performing & Visual Arts
ATTACH;FMTTYPE=image/jpeg:https://butteratl.com/wp-content/uploads/2022/08/488cccfa-8ec4-4b1d-ad61-958c70f8d682-1.jpeg
GEO:33.9536122;-84.5492054
X-APPLE-STRUCTURED-LOCATION;VALUE=URI;X-ADDRESS=Marietta Square 117 North Park Square Marietta GA 30060 United States;X-APPLE-RADIUS=500;X-TITLE=117 North Park Square:geo:-84.5492054,33.9536122
END:VEVENT
BEGIN:VEVENT
DTSTART;VALUE=DATE:20220904
DTEND;VALUE=DATE:20220905
DTSTAMP:20260424T034703
CREATED:20220901T022041Z
LAST-MODIFIED:20220901T022041Z
UID:5446-1662249600-1662335999@butteratl.com
SUMMARY:Atlanta Black Pride Weekend
DESCRIPTION:Atlanta Black Pride celebrates over Labor Day weekend in Atlanta. Events are happening all over the city with the festival set for Sept. 4 in Piedmont Park.
URL:https://butteratl.com/event/atlanta-black-pride-weekend/
LOCATION:Piedmont Park\, 500 10th St NE\, Atlanta\, GA\, 30306\, United States
CATEGORIES:Community,Festival,Food & Drink
ATTACH;FMTTYPE=image/jpeg:https://butteratl.com/wp-content/uploads/2022/08/hqvwyjbdgpcmyk6ugrtj.jpeg
GEO:33.7822276;-84.369258
X-APPLE-STRUCTURED-LOCATION;VALUE=URI;X-ADDRESS=Piedmont Park 500 10th St NE Atlanta GA 30306 United States;X-APPLE-RADIUS=500;X-TITLE=500 10th St NE:geo:-84.369258,33.7822276
END:VEVENT
BEGIN:VEVENT
DTSTART;VALUE=DATE:20220913
DTEND;VALUE=DATE:20220919
DTSTAMP:20260424T034703
CREATED:20220915T002936Z
LAST-MODIFIED:20220915T002936Z
UID:5486-1663027200-1663545599@butteratl.com
SUMMARY:Atlanta Food and Wine Festival
DESCRIPTION:Since 2011\, the Atlanta Food & Wine Festival has been shining an international spotlight on the incomparable food\, wine\, beer and spirits of the South. Our four-day weekend showcases more than 250 chefs\, sommeliers\, mixologists and industry insiders from 13 southern states – each with a unique story to tell\, a tradition to share and a region to fondly recall. \nEvery year\, more than 10\,000 tourists and locals alike converge on Atlanta to savor\, sip and share in exceptionally and artfully curated experiences they’ll find nowhere else.
URL:https://butteratl.com/event/atlanta-food-and-wine-festival/
LOCATION:Downtown Atlanta
CATEGORIES:Community,Food & Drink
ATTACH;FMTTYPE=image/png:https://butteratl.com/wp-content/uploads/2022/09/AFWF-Logo-2022-for-website.png
END:VEVENT
BEGIN:VEVENT
DTSTART;VALUE=DATE:20220917
DTEND;VALUE=DATE:20220919
DTSTAMP:20260424T034703
CREATED:20220915T002431Z
LAST-MODIFIED:20220915T002431Z
UID:5483-1663372800-1663545599@butteratl.com
SUMMARY:Buckhead Fine Arts Festival
DESCRIPTION:SEPTEMBER 17-18\, 2022\nHOURS:\nSATURDAY 10 AM – 5 PM\nSUNDAY  11 AM – 5 PM\nLocated in the heart of Buckhead and considered to be one of the most prestigious areas and home to one of the most enthusiastic art buying communities in the Atlanta metro area. Rain or shine\, visitors from all over the country enjoy this event. \nThe Buckhead Fine Arts Festival is a two-day fine arts outdoor festival\, located in Buckhead\, Atlanta\, this neighborhood is rich in tradition and has one of the highest and richest demographics in metro-Atlanta. Featuring approximately 100 painters\, photographers\, sculptors\, metalwork\, glass artists\, jewelers and more! The Festival will also offer artist demonstrations and live acoustic music. \nThe Buckhead Fine Arts Festival is organized by the Atlanta Foundation for Public Spaces\, LLC and a board of experts in various artistic disciplines\, which has a long history of building some of the most notable events in the south with several holding spots in the TOP 100 in the nation.  The festival will uphold the highest standards supporting the arts and offer participating artists the environment to nurture an appreciation for their skills. \nAt this festival\, there is something for everyone and best of all\, it’s entirely free to attend! \nWe hope to see you there!
URL:https://butteratl.com/event/buckhead-fine-arts-festival-2/
LOCATION:Buckhead Village District\, 272 Buckhead Ave\, Atlanta\, GA\, 30305\, United States
CATEGORIES:Community,Festival,Food & Drink
ATTACH;FMTTYPE=image/png:https://butteratl.com/wp-content/uploads/2022/09/logo_1519212050-1.png
GEO:33.8383372;-84.3791301
X-APPLE-STRUCTURED-LOCATION;VALUE=URI;X-ADDRESS=Buckhead Village District 272 Buckhead Ave Atlanta GA 30305 United States;X-APPLE-RADIUS=500;X-TITLE=272 Buckhead Ave:geo:-84.3791301,33.8383372
END:VEVENT
BEGIN:VEVENT
DTSTART;VALUE=DATE:20220922
DTEND;VALUE=DATE:20220926
DTSTAMP:20260424T034703
CREATED:20220915T001950Z
LAST-MODIFIED:20220915T001950Z
UID:5476-1663804800-1664150399@butteratl.com
SUMMARY:Hauntlanta
DESCRIPTION:Join us for the 1st Annual HAUNTLANTA \nParanormal Convention in Atlanta\, Georgia! \nMeet your favorite Paranormal Celebrities\, \nAttend Epic Parties\, \nKill Zombies in Immersive Laser Tag\, \nHave a Reading by a Psychic/Medium\, \nAttend a Ghost Hunt\, and MORE!
URL:https://butteratl.com/event/hauntlanta/
LOCATION:Westin Peachtree Plaza Atlanta\, 210 Peachtree Street NW\, Atlanta\, GA\, 30303\, United States
CATEGORIES:Other
ATTACH;FMTTYPE=image/jpeg:https://butteratl.com/wp-content/uploads/2022/09/304790019_488568679943355_3641577826728876698_n.jpg
GEO:33.7594352;-84.3879439
X-APPLE-STRUCTURED-LOCATION;VALUE=URI;X-ADDRESS=Westin Peachtree Plaza Atlanta 210 Peachtree Street NW Atlanta GA 30303 United States;X-APPLE-RADIUS=500;X-TITLE=210 Peachtree Street NW:geo:-84.3879439,33.7594352
END:VEVENT
BEGIN:VEVENT
DTSTART;TZID=America/New_York:20220922T190000
DTEND;TZID=America/New_York:20220922T190000
DTSTAMP:20260424T034703
CREATED:20220813T015322Z
LAST-MODIFIED:20220813T015322Z
UID:5415-1663873200-1663873200@butteratl.com
SUMMARY:Connecting the Dots with Adonis Thrax
DESCRIPTION:Back bigger and better than ever! Celebrating the 5-year Anniversary of Level Up ATL with the Return of Connecting the Dots \nThursday September 22 at 7:00PM Live from the Georgia State University Ballroom. \nDetails Coming Soon
URL:https://butteratl.com/event/connecting-the-dots-with-adonis-thrax/
LOCATION:Georgia State University\, Georgia
CATEGORIES:Business,Community
ATTACH;FMTTYPE=image/jpeg:https://butteratl.com/wp-content/uploads/2022/08/Adonis.jpg
END:VEVENT
BEGIN:VEVENT
DTSTART;VALUE=DATE:20220924
DTEND;VALUE=DATE:20220926
DTSTAMP:20260424T034703
CREATED:20220914T234730Z
LAST-MODIFIED:20220914T234730Z
UID:5458-1663977600-1664150399@butteratl.com
SUMMARY:Sweet Auburn Music Festival
DESCRIPTION:The Festival\n3 AWESOME DAYS OF NON-STOP MUSIC \n\n\nAre you looking for a weekend with Fun-Filled Entertainment – Live Music\, Good Food\, National Artist and Celebrities – ALL FREE! The Sweet Auburn Music Fest is what you have been waiting for. Witness one of the most amazing music festivals to hit Atlanta and the Southeast. If you are looking for a perfect blend of music\, people\, food\, entertainment\, and culture\, welcome home. From upcoming acts to timeless R&B & Gospel stars to Alternative Greats\, the Sweet Auburn Music Fest has it all. It is a family gathering of Food\, Fun\, and Music. What everyone loves. Enjoy the international food court\, art vendors\, small business owners and socialize with all the people from throughout the Southeast. No other upcoming shows or music festivals in Atlanta compares to the experience you will have.
URL:https://butteratl.com/event/sweet-auburn-music-festival/
LOCATION:Auburn Avenue\, 320 Irwin Street NE\, Atlanta\, GA\, 30312\, United States
CATEGORIES:Festival,Food & Drink,Music
ATTACH;FMTTYPE=image/jpeg:https://butteratl.com/wp-content/uploads/2022/09/295482092_7838404316200768_2114015851207765454_n.jpg
GEO:33.7584345;-84.3774503
X-APPLE-STRUCTURED-LOCATION;VALUE=URI;X-ADDRESS=Auburn Avenue 320 Irwin Street NE Atlanta GA 30312 United States;X-APPLE-RADIUS=500;X-TITLE=320 Irwin Street NE:geo:-84.3774503,33.7584345
END:VEVENT
BEGIN:VEVENT
DTSTART;TZID=America/New_York:20220924T120000
DTEND;TZID=America/New_York:20220924T180000
DTSTAMP:20260424T034703
CREATED:20220915T000443Z
LAST-MODIFIED:20220915T000443Z
UID:5471-1664020800-1664042400@butteratl.com
SUMMARY:East Atlanta Strut
DESCRIPTION:Celebrate East Atlanta’s art\, culture and quirkiness once again in 2022\, on Saturday\, September 24. Grab a bike or hop our bus to catch all this neighborhood-wide festival has to offer! Have a competitive spirit? Be sure to check out the Contests menu.
URL:https://butteratl.com/event/east-atlanta-strut/
LOCATION:East Atlanta Village
CATEGORIES:Community,Festival,Food & Drink
ATTACH;FMTTYPE=image/jpeg:https://butteratl.com/wp-content/uploads/2022/09/272241656_5018026521594984_7447626840912094008_n.jpg
END:VEVENT
END:VCALENDAR