BEGIN:VCALENDAR
VERSION:2.0
PRODID:-//Butter.ATL - ECPv5.2.1//NONSGML v1.0//EN
CALSCALE:GREGORIAN
METHOD:PUBLISH
X-WR-CALNAME:Butter.ATL
X-ORIGINAL-URL:https://butteratl.com
X-WR-CALDESC:Events for Butter.ATL
BEGIN:VTIMEZONE
TZID:America/New_York
BEGIN:DAYLIGHT
TZOFFSETFROM:-0500
TZOFFSETTO:-0400
TZNAME:EDT
DTSTART:20220313T070000
END:DAYLIGHT
BEGIN:STANDARD
TZOFFSETFROM:-0400
TZOFFSETTO:-0500
TZNAME:EST
DTSTART:20221106T060000
END:STANDARD
END:VTIMEZONE
BEGIN:VEVENT
DTSTART;VALUE=DATE:20220805
DTEND;VALUE=DATE:20220815
DTSTAMP:20260424T050932
CREATED:20220627T151300Z
LAST-MODIFIED:20220627T151300Z
UID:5335-1659657600-1660521599@butteratl.com
SUMMARY:Atlanta Black Restaurant Week
DESCRIPTION:Celebrate the flavors of African-American\, African\, and Caribbean cuisine during Black Restaurant Week. Black Restaurant Week is a ten-day showcase celebrating the best in culinary arts. Dine at one of the participating restaurants offering weekly specials.
URL:https://butteratl.com/event/atlanta-black-restaurant-week/
LOCATION:GA
CATEGORIES:Festival,Food & Drink
ATTACH;FMTTYPE=image/png:https://butteratl.com/wp-content/uploads/2022/06/Atlanta-BRW-FB.png
END:VEVENT
BEGIN:VEVENT
DTSTART;VALUE=DATE:20220805
DTEND;VALUE=DATE:20220808
DTSTAMP:20260424T050932
CREATED:20220730T023052Z
LAST-MODIFIED:20220730T023052Z
UID:5372-1659657600-1659916799@butteratl.com
SUMMARY:Dynamic Cuts  Back to School Free Haircuts and Braids
DESCRIPTION:FREE HAIRCUTS AND BRAIDS! \nAugust 5- August 7 \nChildren 12 and Under \n(Limited Cuts * Early arrival is Suggested)
URL:https://butteratl.com/event/dynamic-cuts-back-to-school-free-haircuts-and-braids/
LOCATION:Dynamic Cuts\, 4112 Redan Road Ste G\, Stone Mountain\, GA\, 30083\, United States
CATEGORIES:Charity & Causes,Community
ATTACH;FMTTYPE=image/jpeg:https://butteratl.com/wp-content/uploads/2022/07/IMG_7461.jpg
GEO:33.7646846;-84.2214986
X-APPLE-STRUCTURED-LOCATION;VALUE=URI;X-ADDRESS=Dynamic Cuts 4112 Redan Road Ste G Stone Mountain GA 30083 United States;X-APPLE-RADIUS=500;X-TITLE=4112 Redan Road Ste G:geo:-84.2214986,33.7646846
END:VEVENT
BEGIN:VEVENT
DTSTART;TZID=America/New_York:20220806T090000
DTEND;TZID=America/New_York:20220806T170000
DTSTAMP:20260424T050932
CREATED:20220731T235652Z
LAST-MODIFIED:20220731T235652Z
UID:5390-1659776400-1659805200@butteratl.com
SUMMARY:Haircut Giveaway For 160 Local Students
DESCRIPTION:Witherite Law Group\, 1-800-TruckWreck and The SWAG Shop\, are joining together to provide free haircuts to Atlanta youth returning to school this fall. Witherite Law Group will sponsor more than 160 students to receive a free haircut\, valued at approximately $30 each. The free haircuts will be provided to students up to age 18. This inaugural event is an effort to offset the costs associated with going back to school. The event is free and open to the public. Witherite Law Group will take over two SWAG Shop locations where the first 80 children at each\nlocation will receive a free haircut just in time for the first day of school. \n(2) Locations! \nThe SWAG Shop\, 365 Edgewood Ave SE\, Atlanta\, GA 30312\nThe SWAG Shop\, 3461 Roosevelt Hwy\, STE 16\, Atlanta\, GA 30349
URL:https://butteratl.com/event/haircut-giveaway-for-160-local-students/
LOCATION:The Swag Shop\, 365 Edgewood Ave SE\, Atlanta\, GA\, 30312
CATEGORIES:Charity & Causes,Community
ATTACH;FMTTYPE=image/jpeg:https://butteratl.com/wp-content/uploads/2022/07/1_800_Truck_Wreck_WLG_Logo.jpg
GEO:33.7542149;-84.3757468
X-APPLE-STRUCTURED-LOCATION;VALUE=URI;X-ADDRESS=The Swag Shop 365 Edgewood Ave SE Atlanta GA 30312;X-APPLE-RADIUS=500;X-TITLE=365 Edgewood Ave SE:geo:-84.3757468,33.7542149
END:VEVENT
BEGIN:VEVENT
DTSTART;TZID=America/New_York:20220806T170000
DTEND;TZID=America/New_York:20220806T210000
DTSTAMP:20260424T050932
CREATED:20220730T023937Z
LAST-MODIFIED:20220730T023937Z
UID:5381-1659805200-1659819600@butteratl.com
SUMMARY:Clutches and Caviar Car and Bike Show
DESCRIPTION:CLUTCHES x CAVIAR ATLANTA BIKE & CAR SHOW\nA FUNDRAISER PROVIDING CLASSROOM SUPPLIES FOR\nATLANTA PUBLIC SCHOOLS: AUGUST 6 AT REVEL ATLANTA \nMetro Atlanta based digital motorcycle brand BLVCK CAVIAR and Atlanta based full-service\ndigital marketing and promotions agency\, Born Civil partner together to produce CLUTCHES x\nCAVIAR an Atlanta Bike & Car Show. A percentage of proceeds to benefit BLVCK CAVIAR\nAtlanta’s core goal of providing Atlanta Public Schools with classroom supplies.\nWHO:\nBLVCK CAVIAR Atlanta:\n• Alonzo “Boogie” Robinson-Cain (President)\n• John “Pretentious” Lightbourne-Thompson (Vice President)\n• William “Ace” Winegan (Public Relations Officer)\n• Chris “PRCZN” Cutz
URL:https://butteratl.com/event/clutches-and-caviar-car-and-bike-show/
LOCATION:Revel Atlanta\, 1778 Ellsworth Industrial Blvd.\, Atlanta\, GA\, 30318\, United States
CATEGORIES:Charity & Causes,Community,School Activities
ATTACH;FMTTYPE=image/png:https://butteratl.com/wp-content/uploads/2022/07/CLUTCHES-x-CAVIAR.png
ORGANIZER;CN="BLVCK%20CAVIAR":MAILTO:INFO@BLVCKCAVIAR.COM
GEO:33.8036408;-84.4274929
X-APPLE-STRUCTURED-LOCATION;VALUE=URI;X-ADDRESS=Revel Atlanta 1778 Ellsworth Industrial Blvd. Atlanta GA 30318 United States;X-APPLE-RADIUS=500;X-TITLE=1778 Ellsworth Industrial Blvd.:geo:-84.4274929,33.8036408
END:VEVENT
BEGIN:VEVENT
DTSTART;TZID=America/New_York:20220809T183000
DTEND;TZID=America/New_York:20220809T183000
DTSTAMP:20260424T050932
CREATED:20220730T021731Z
LAST-MODIFIED:20220730T024103Z
UID:5367-1660069800-1660069800@butteratl.com
SUMMARY:WABE Presents Sounds Like ATL Featuring JOI ANSLEY STEWART
DESCRIPTION:Sounds Like ATL is a new monthly concert series from WABE\, Atlanta’s NPR station. Built around a desire to amplify Atlanta’s diverse and world-renowned musical community\, each concert will feature a fresh lineup and a variety of genres. Bands and performers are chosen by WABE’s staff and music-industry influencers. The sixth edition of the WABE Sounds Like ATL features songstresses\, Joi and Ansley Stewart.By entering and by your presence at the event\, you consent to be photographed\, filmed and/or otherwise recorded. Your entry constitutes your consent to such photography\, filming and/or recording and to any use\, in any and all media throughout the universe in perpetuity\, of your appearance\, voice and name for any purpose whatsoever in connection with the production presently entitled: WABE Presents Sounds Live ATL. You understand that all photography\, filming and/or recording will be done in reliance on this consent given by you by entering this area. If you do not agree to the foregoing\, please do not enter the concert event venue.
URL:https://butteratl.com/event/wabe-presents-sounds-like-atl-featuring-joi-ansley-stewart/
LOCATION:City Winery\, 650 North Ave. N.E.\, Atlanta\, GA\, 30308\, United States
CATEGORIES:Music,Performing & Visual Arts
ATTACH;FMTTYPE=image/png:https://butteratl.com/wp-content/uploads/2022/07/SLATL_August_1080x1080_1.png
GEO:33.7715446;-84.3672662
X-APPLE-STRUCTURED-LOCATION;VALUE=URI;X-ADDRESS=City Winery 650 North Ave. N.E. Atlanta GA 30308 United States;X-APPLE-RADIUS=500;X-TITLE=650 North Ave. N.E.:geo:-84.3672662,33.7715446
END:VEVENT
BEGIN:VEVENT
DTSTART;TZID=America/New_York:20220813T110000
DTEND;TZID=America/New_York:20220813T230000
DTSTAMP:20260424T050932
CREATED:20220627T152556Z
LAST-MODIFIED:20220627T152556Z
UID:5341-1660388400-1660431600@butteratl.com
SUMMARY:The 404 Festival
DESCRIPTION:The 404 Festival is taking over Pratt Pullman District on August 13th\, 2022 from 11am – 11pm.  \n​ \n30 + Atlanta based vendors\, 22+ Local and National Musical Acts\, 3 Stages. Featuring Big Boi\, Travis Porter\, Ricky Retro\, Hedonistas and more!  \n​ \nWe love Atlanta so much we decided to make an entire festival celebrating all things Atlanta. \n\nThe 404 Fest is coming August 13th\, 2022 and we want you to celebrate our favorite city right alongside us with Atlanta based national acts\, artists\, vendors\, and history. This event is family friendly; however\, please leave the fur babies at home.  \n​ \nWe’re bringing the best of the best in the ATL together all in one place for a full day of food\, friends\, and music at Pullman Yards. 
URL:https://butteratl.com/event/the-404-festival/
LOCATION:Pullman Yards\, 225 Rogers St NE\, Atlanta\, GA\, 30317\, United States
CATEGORIES:Festival,Music
ATTACH;FMTTYPE=image/jpeg:https://butteratl.com/wp-content/uploads/2022/06/404-Fest.jpg
GEO:33.7585899;-84.3279292
X-APPLE-STRUCTURED-LOCATION;VALUE=URI;X-ADDRESS=Pullman Yards 225 Rogers St NE Atlanta GA 30317 United States;X-APPLE-RADIUS=500;X-TITLE=225 Rogers St NE:geo:-84.3279292,33.7585899
END:VEVENT
BEGIN:VEVENT
DTSTART;TZID=America/New_York:20220813T120000
DTEND;TZID=America/New_York:20220813T220000
DTSTAMP:20260424T050932
CREATED:20220627T153150Z
LAST-MODIFIED:20220627T153150Z
UID:5345-1660392000-1660428000@butteratl.com
SUMMARY:Atlanta Summer Wine Festival
DESCRIPTION:50+ Wines\, small beer selection\, live music\, and DJ Qtip\nTickets include entry\, entertainment\, souvenir acrylic wine glass\, and all wine & beer samples\n$45 Advance\, $50 after Aug. 4\, $60 day of event\nFirst 500 of each session are just $35!
URL:https://butteratl.com/event/atlanta-summer-wine-festival-2/
LOCATION:The Eastern\, 777 Memorial Dr SE Building C\, Atlanta\, GA\, 30316\, United States
CATEGORIES:Festival,Food & Drink
ATTACH;FMTTYPE=image/jpeg:https://butteratl.com/wp-content/uploads/2022/06/280744827_1968937833308826_3643865126263247121_n.jpg
GEO:33.7465583;-84.3611226
X-APPLE-STRUCTURED-LOCATION;VALUE=URI;X-ADDRESS=The Eastern 777 Memorial Dr SE Building C Atlanta GA 30316 United States;X-APPLE-RADIUS=500;X-TITLE=777 Memorial Dr SE Building C:geo:-84.3611226,33.7465583
END:VEVENT
BEGIN:VEVENT
DTSTART;TZID=America/New_York:20220813T160000
DTEND;TZID=America/New_York:20220813T210000
DTSTAMP:20260424T050932
CREATED:20220813T020238Z
LAST-MODIFIED:20220813T020238Z
UID:5424-1660406400-1660424400@butteratl.com
SUMMARY:Recharge
DESCRIPTION:Step out into the sun and Recharge with WERC Crew\, OYE and Joy To The Polls! DJs from Atlanta based crews WERC & OYE come together to serve up sounds of the summer while promoting Joy To The Polls\, a non-partisan initiative to mobilize voters to the polls with music leading the way. \nSaturday\, August 13 \,2022 \n4 – 9pm at Edgewood Beer Garden \nFree Entry with RSVP \nSounds by: \n\nXavier BLK\nDre Ngozi\nHourglass\nShelly Dammar\nFlorista\n\nHosted by Symphony Thompson from Comedy Hype! \nYou may receive email updates from Joy To The Polls and Working Families Power and its affiliates.
URL:https://butteratl.com/event/recharge/
LOCATION:Georgia Beer Garden\, 420 Edgewood Avenue Southeast\, Atlanta\, GA\, 30312\, United States
CATEGORIES:Community,Music
ATTACH;FMTTYPE=image/png:https://butteratl.com/wp-content/uploads/2022/08/https-cdn.evbuc_.com-images-333094639-1076816456973-1-original.20220810-153643.png
GEO:33.754491;-84.3738697
X-APPLE-STRUCTURED-LOCATION;VALUE=URI;X-ADDRESS=Georgia Beer Garden 420 Edgewood Avenue Southeast Atlanta GA 30312 United States;X-APPLE-RADIUS=500;X-TITLE=420 Edgewood Avenue Southeast:geo:-84.3738697,33.754491
END:VEVENT
BEGIN:VEVENT
DTSTART;VALUE=DATE:20220820
DTEND;VALUE=DATE:20220822
DTSTAMP:20260424T050932
CREATED:20220627T153718Z
LAST-MODIFIED:20220627T153718Z
UID:5350-1660953600-1661126399@butteratl.com
SUMMARY:Piedmont Park Summer Arts Festival
DESCRIPTION:Named as one of the TOP 100 Arts Festival in the Nation by Sunshine Artist Magazine\, we are honored to produced and host the annual Piedmont Park Arts Festival located in Atlanta’s largest park\, Piedmont Park. 1215 Piedmont Avenue\, Atlanta\, GA 30309. \nThe Piedmont Park Summer Arts Festival is a 2-day outdoor event with an emphasis on the visual arts and family fun presented by the Atlanta Foundation for Public Spaces\, for people of all ages\,  customs\, and interests. The Midtown community of Piedmont Park is considered to be home to one of the largest and most enthusiastic art buying communities in metro Atlanta. The Piedmont Park Summer Arts and craft festival brings back the tradition to Atlanta’s arts community. \nThis event will feature up to 250 painters\, photographers\, sculptors\, leather and metalwork\, glass blowers\, jewelers\, and crafters! The Festival will also offer artist demonstrations\, live acoustic music\, a children’s play area\, plus festival foods and beverages with healthy alternatives. \nThe Piedmont Park Summer Arts Festival is organized by the Atlanta Foundation for Public Spaces\, LLC\, who also partners with the fall fine arts Chastain Park Arts Festival and more than a dozen other events\, along with a board of experts in various artistic disciplines. The festival will uphold the highest standards supporting the arts and offer participating artists the environment to nurture an appreciation for their skills.
URL:https://butteratl.com/event/piedmont-park-summer-arts-festival/
LOCATION:Piedmont Park\, 500 10th St NE\, Atlanta\, GA\, 30306\, United States
CATEGORIES:Community,Festival,Performing & Visual Arts
ATTACH;FMTTYPE=image/jpeg:https://butteratl.com/wp-content/uploads/2022/06/275982675_5034424676640713_7082357111272248573_n.jpg
GEO:33.7822276;-84.369258
X-APPLE-STRUCTURED-LOCATION;VALUE=URI;X-ADDRESS=Piedmont Park 500 10th St NE Atlanta GA 30306 United States;X-APPLE-RADIUS=500;X-TITLE=500 10th St NE:geo:-84.369258,33.7822276
END:VEVENT
BEGIN:VEVENT
DTSTART;TZID=America/New_York:20220820T130000
DTEND;TZID=America/New_York:20220820T180000
DTSTAMP:20260424T050932
CREATED:20220819T162303Z
LAST-MODIFIED:20220819T162303Z
UID:5436-1661000400-1661018400@butteratl.com
SUMMARY:German Bierfest Atlanta
DESCRIPTION:Put on your lederhosen and join us for a full day of German themed fun at German Bierfest! Atlanta’s Largest German Bier Festival since 2003. Enjoy a variety of deliciously cold German beers\, German Wine\, German food\, live music\, and an abundance of games and themed activities!
URL:https://butteratl.com/event/german-bierfest-atlanta/
LOCATION:Historic Fourth Ward Skatepark\, 830 Willoughby Way NE\, Atlanta\, GA 30312\, GA\, 30312\, United States
CATEGORIES:Festival,Food & Drink
ATTACH;FMTTYPE=image/png:https://butteratl.com/wp-content/uploads/2022/08/Screen-Shot-2022-08-09-at-3.46.38-PM.png
GEO:33.7650191;-84.3607982
X-APPLE-STRUCTURED-LOCATION;VALUE=URI;X-ADDRESS=Historic Fourth Ward Skatepark 830 Willoughby Way NE Atlanta GA 30312 GA 30312 United States;X-APPLE-RADIUS=500;X-TITLE=830 Willoughby Way NE:geo:-84.3607982,33.7650191
END:VEVENT
BEGIN:VEVENT
DTSTART;VALUE=DATE:20220824
DTEND;VALUE=DATE:20220829
DTSTAMP:20260424T050932
CREATED:20220801T140602Z
LAST-MODIFIED:20220801T142438Z
UID:5402-1661299200-1661731199@butteratl.com
SUMMARY:FedExCup Playoffs
DESCRIPTION:Don’t miss your chance to see the top 30 players on the PGA TOUR compete in the final event of the FedExCup Playoffs! From local bites and refreshing cocktails to watching the players compete just a few feet away\, the TOUR Championship offers something for every fan.
URL:https://butteratl.com/event/fedexcup-playoffs/
LOCATION:East Lake Golf Club\, 2575 Alston Dr SE\, Atlanta\, GA\, 30317\, United States
CATEGORIES:Sports & Fitness
ATTACH;FMTTYPE=image/png:https://butteratl.com/wp-content/uploads/2022/08/Screen-Shot-2022-08-01-at-10.12.09-AM.png
GEO:33.7434825;-84.3027121
X-APPLE-STRUCTURED-LOCATION;VALUE=URI;X-ADDRESS=East Lake Golf Club 2575 Alston Dr SE Atlanta GA 30317 United States;X-APPLE-RADIUS=500;X-TITLE=2575 Alston Dr SE:geo:-84.3027121,33.7434825
END:VEVENT
BEGIN:VEVENT
DTSTART;VALUE=DATE:20220827
DTEND;VALUE=DATE:20220829
DTSTAMP:20260424T050932
CREATED:20220627T154631Z
LAST-MODIFIED:20220627T154631Z
UID:5355-1661558400-1661731199@butteratl.com
SUMMARY:Summer Shade Festival
DESCRIPTION:For almost two decades\, Atlanta art and music lovers have flocked to Grant Park to bid adieu to summer at the Summer Shade Festival. In 2022\, we are celebrating 20 years of amazing festivaling BACK IN THE PARK on Saturday and Sunday\, August 27 & 28. Follow us on Facebook & Instagram for alerts and updates. \nThe Grant Park Summer Shade Festival Presented by Southern Feedstore is an annual fundraiser for the Grant Park Conservancy (GPC)\, a non-profit\, membership-based organization committed to the restoration\, renovation\, beautification and maintenance of historic Grant Park.  Thank you for attending and supporting\, and we hope you enjoy your final hurrah of summer!
URL:https://butteratl.com/event/summer-shade-festival/
LOCATION:Grant Park\, Atlanta
CATEGORIES:Music,Performing & Visual Arts
ATTACH;FMTTYPE=image/jpeg:https://butteratl.com/wp-content/uploads/2022/06/289902716_420729866729310_3109529896472575650_n.jpg
END:VEVENT
BEGIN:VEVENT
DTSTART;TZID=America/New_York:20220827T190000
DTEND;TZID=America/New_York:20220827T190000
DTSTAMP:20260424T050932
CREATED:20220819T161901Z
LAST-MODIFIED:20220819T161901Z
UID:5429-1661626800-1661626800@butteratl.com
SUMMARY:SAVE Fest
DESCRIPTION:SAVE Fest\nLive Performances by Ben Reilly\, The Letter M\, S.U.R.F.\, Kapwani\, Mercury\, Jelani Imani and Lango. This festival features Atlanta’s next generation of Artists to rise to the surface of the creative community. The event will feature Food Trucks\, a Branded Photo booth\, a private VIP Lounge\, and 2 Bars. The event is 18+ and we expect 300 fans to be in attendance
URL:https://butteratl.com/event/save-fest/
LOCATION:Bdnwth Studios\, 1565 Davis Ave\, Atlanta\, GA\, 30344\, United States
CATEGORIES:Music,Performing & Visual Arts
ATTACH;FMTTYPE=image/png:https://butteratl.com/wp-content/uploads/2022/08/Ben-Reilly.png
GEO:33.6884463;-84.4400219
X-APPLE-STRUCTURED-LOCATION;VALUE=URI;X-ADDRESS=Bdnwth Studios 1565 Davis Ave Atlanta GA 30344 United States;X-APPLE-RADIUS=500;X-TITLE=1565 Davis Ave:geo:-84.4400219,33.6884463
END:VEVENT
END:VCALENDAR