BEGIN:VCALENDAR
VERSION:2.0
PRODID:-//Butter.ATL - ECPv5.2.1//NONSGML v1.0//EN
CALSCALE:GREGORIAN
METHOD:PUBLISH
X-WR-CALNAME:Butter.ATL
X-ORIGINAL-URL:https://butteratl.com
X-WR-CALDESC:Events for Butter.ATL
BEGIN:VTIMEZONE
TZID:America/New_York
BEGIN:DAYLIGHT
TZOFFSETFROM:-0500
TZOFFSETTO:-0400
TZNAME:EDT
DTSTART:20220313T070000
END:DAYLIGHT
BEGIN:STANDARD
TZOFFSETFROM:-0400
TZOFFSETTO:-0500
TZNAME:EST
DTSTART:20221106T060000
END:STANDARD
END:VTIMEZONE
BEGIN:VEVENT
DTSTART;VALUE=DATE:20220402
DTEND;VALUE=DATE:20220403
DTSTAMP:20260424T113337
CREATED:20220311T172928Z
LAST-MODIFIED:20220311T172928Z
UID:5201-1648857600-1648943999@butteratl.com
SUMMARY:Atlanta's R&B Soul Picnic
DESCRIPTION:Soak up some soul-soothing sounds and healing melodies at ATL’s largest\, two-day R&B Soul Picnic\, where dozens of DJs will bring you absolutely top notch vibes all day. Bring your cooler\, a blanket\, and even a lawn chair if that’s how you like to get down\, and enjoy a wide selection of vendors\, performers\, speakers\, and yoga in the park! Atlanta legends Jermaine Dupri and DJ Trauma will be in the mix delivering tunes\, too\, so  grab your tickets come catch a vibe.
URL:https://butteratl.com/event/atlantas-rb-soul-picnic/2022-04-02/
LOCATION:Piedmont Park\, 500 10th St NE\, Atlanta\, GA\, 30306\, United States
CATEGORIES:Festival,Music
ATTACH;FMTTYPE=image/jpeg:https://butteratl.com/wp-content/uploads/2022/03/273112838_1888111251380421_1516264680102033760_n-e1647019345835.jpg
GEO:33.7822276;-84.369258
X-APPLE-STRUCTURED-LOCATION;VALUE=URI;X-ADDRESS=Piedmont Park 500 10th St NE Atlanta GA 30306 United States;X-APPLE-RADIUS=500;X-TITLE=500 10th St NE:geo:-84.369258,33.7822276
END:VEVENT
BEGIN:VEVENT
DTSTART;TZID=America/New_York:20220402T130000
DTEND;TZID=America/New_York:20220402T170000
DTSTAMP:20260424T113337
CREATED:20220311T004949Z
LAST-MODIFIED:20220311T004949Z
UID:5176-1648904400-1648918800@butteratl.com
SUMMARY:Georgia Craft Brewers Festival
DESCRIPTION:Hit up your favorite drinking buddies and head down to taste from a selection of over 250 different beers from more than 60 different Georgia craft breweries\, at one of the best boozy events Georgia has to offer. This year’s Georgia Craft Brewers Festival should be at the top of the list for those of you who know the difference between an IPA and a lager\, and turn your noses up at the regular degular commercial beers. Taste beer\, hear from brewers about the process and ingredients that goes into the brew\, enjoy live music\, and immerse yourself in the good vibes. Tickets start at just $35\, so get to it!
URL:https://butteratl.com/event/georgia-craft-brewers-festival/
LOCATION:Atlantic Station\, 261 19th St NW\, Atlanta\, GA\, 30363\, United States
CATEGORIES:Festival,Food & Drink
ATTACH;FMTTYPE=image/jpeg:https://butteratl.com/wp-content/uploads/2022/03/273225254_6979909785415109_2968453240801879997_n-e1646958748829.jpg
GEO:33.7934948;-84.3965426
X-APPLE-STRUCTURED-LOCATION;VALUE=URI;X-ADDRESS=Atlantic Station 261 19th St NW Atlanta GA 30363 United States;X-APPLE-RADIUS=500;X-TITLE=261 19th St NW:geo:-84.3965426,33.7934948
END:VEVENT
BEGIN:VEVENT
DTSTART;TZID=America/New_York:20220402T140000
DTEND;TZID=America/New_York:20220402T190000
DTSTAMP:20260424T113337
CREATED:20220401T124834Z
LAST-MODIFIED:20220401T124845Z
UID:5256-1648908000-1648926000@butteratl.com
SUMMARY:Herradura Ultra Presents Extraordinary People of 404 (Sponsored)
DESCRIPTION:Herradura Ultra Presents: Extraordinary People of “404” at 177 The Lot Lounge \nSaturday\, April 2\, 2022 2PM-7PM at 177 The Lot Lounge (Old Lady Gang Backlot – 177 Peter St\, Atlanta\, GA) \nHerradura Ultra is honoring black creatives and Extraordinary People of the “404”. \nFood\, Drinks and The Honorees will be selling and exhibiting during the event. #TequilaHerradura \nOpen To The Public – Free Entry
URL:https://butteratl.com/event/herradura-ultra-presents-extraordinary-people-of-404/
LOCATION:177 Peter St\, Atlanta\, GA\, 177 Peter St.\, Atlanta\, GA\, 30313
CATEGORIES:Food & Drink
ATTACH;FMTTYPE=image/jpeg:https://butteratl.com/wp-content/uploads/2022/04/Photo-Mar-27-6-14-21-PM.jpg
GEO:33.7497104;-84.3993804
X-APPLE-STRUCTURED-LOCATION;VALUE=URI;X-ADDRESS=177 Peter St Atlanta GA 177 Peter St. Atlanta GA 30313;X-APPLE-RADIUS=500;X-TITLE=177 Peter St.:geo:-84.3993804,33.7497104
END:VEVENT
BEGIN:VEVENT
DTSTART;VALUE=DATE:20220408
DTEND;VALUE=DATE:20220411
DTSTAMP:20260424T113337
CREATED:20220311T011246Z
LAST-MODIFIED:20220311T011246Z
UID:5179-1649376000-1649635199@butteratl.com
SUMMARY:86th Annual Atlanta Dogwood Festival
DESCRIPTION:Get ready for a day filled with art\, live music\, and all your favorite festival festivities at the Atlanta Dogwood Festival\, the cities oldest staple event and the third oldest festival in the country! From the nationally renowned fine artist market and local food vendors\, to the fun Kids Village and all-day live music\, there’s something for everybody at this springtime sanctuary. Bring the whole family\, grab some funnel cakes and local art\, and enjoy yourself!
URL:https://butteratl.com/event/86th-annual-atlanta-dogwood-festival/
LOCATION:Piedmont Park\, 500 10th St NE\, Atlanta\, GA\, 30306\, United States
CATEGORIES:Festival
ATTACH;FMTTYPE=image/jpeg:https://butteratl.com/wp-content/uploads/2022/03/274028098_10159028098562060_8627852707394675370_n.jpg
GEO:33.7822276;-84.369258
X-APPLE-STRUCTURED-LOCATION;VALUE=URI;X-ADDRESS=Piedmont Park 500 10th St NE Atlanta GA 30306 United States;X-APPLE-RADIUS=500;X-TITLE=500 10th St NE:geo:-84.369258,33.7822276
END:VEVENT
BEGIN:VEVENT
DTSTART;TZID=America/New_York:20220409T130000
DTEND;TZID=America/New_York:20220409T170000
DTSTAMP:20260424T113337
CREATED:20220311T144558Z
LAST-MODIFIED:20220311T144558Z
UID:5183-1649509200-1649523600@butteratl.com
SUMMARY:Atlanta Spring Wine Festival
DESCRIPTION:Surround yourself in ATL’s beautiful spring weather while you sip samples from a selection of over 50 different wines at the Atlanta Spring Wine Festival. Food vendors will be there slinging tasty treats go accompany the festival’s impressive range of wines\, beers\, and ciders. And to keep energy flowing\, listen to some live music and a set from DJ Qtip! Tickets start at just $45 and include entry\, entertainment\, a souvenir wine glass\, and all the wine samples you want.
URL:https://butteratl.com/event/atlanta-spring-wine-festival/
LOCATION:Historic Fourth Ward Park\, 655 North Ave NE\, Atlanta\, GA\, 30308\, United States
CATEGORIES:Festival,Food & Drink
ATTACH;FMTTYPE=image/jpeg:https://butteratl.com/wp-content/uploads/2022/03/272148218_1885929274943016_6826776480453810735_n-e1647009142993.jpg
GEO:33.7710337;-84.3657231
X-APPLE-STRUCTURED-LOCATION;VALUE=URI;X-ADDRESS=Historic Fourth Ward Park 655 North Ave NE Atlanta GA 30308 United States;X-APPLE-RADIUS=500;X-TITLE=655 North Ave NE:geo:-84.3657231,33.7710337
END:VEVENT
BEGIN:VEVENT
DTSTART;VALUE=DATE:20220416
DTEND;VALUE=DATE:20220417
DTSTAMP:20260424T113337
CREATED:20220311T145948Z
LAST-MODIFIED:20220311T145948Z
UID:5186-1650067200-1650153599@butteratl.com
SUMMARY:Food-O-Rama
DESCRIPTION:Take in the lush greens of Grant Park while smelling (and tasting!) the tongue-kicking goodness of good food in the air\, at this year’s Food-O-Rama food truck festival. With over 50 food trucks and restaurants\, and a “vegan alley” with tons of vegan options for all you veggie-heads\, you’ll leave with the food belly of a lifetime.
URL:https://butteratl.com/event/food-o-rama-2/
LOCATION:Grant Park\, 90 Cherokee Ave SE\, Atlanta\, GA\, 30308\, United States
CATEGORIES:Festival,Food & Drink
ATTACH;FMTTYPE=image/jpeg:https://butteratl.com/wp-content/uploads/2022/03/272699683_5071682356228461_8616550847478785441_n-e1647010101503.jpg
GEO:33.7368325;-84.3712908
X-APPLE-STRUCTURED-LOCATION;VALUE=URI;X-ADDRESS=Grant Park 90 Cherokee Ave SE Atlanta GA 30308 United States;X-APPLE-RADIUS=500;X-TITLE=90 Cherokee Ave SE:geo:-84.3712908,33.7368325
END:VEVENT
BEGIN:VEVENT
DTSTART;TZID=America/New_York:20220416T120000
DTEND;TZID=America/New_York:20220416T180000
DTSTAMP:20260424T113337
CREATED:20220311T151307Z
LAST-MODIFIED:20220311T174215Z
UID:5189-1650110400-1650132000@butteratl.com
SUMMARY:Anderby Egg Hunt & Art Market
DESCRIPTION:What sounds better than spending a day indulging in good booze\, great food\, and all your favorite childhood games? You can have all that and more at Anderby Brewing’s eggstravagant (😉) egg hunt and art market\, where you can be a kid for the day with an adult-themed egg hunt\, take in all the good vibes\, and then shop around at the art market featuring tons of local vendors.
URL:https://butteratl.com/event/anderby-egg-hunt-art-market/
LOCATION:Anderby Brewing\, 110 Technology PKWY STE 200\, Peachtree Corners\, GA\, 30092\, United States
CATEGORIES:Festival,Food & Drink
ATTACH;FMTTYPE=image/jpeg:https://butteratl.com/wp-content/uploads/2022/03/274109624_122236763690224_3741313971748758527_n-e1647020527393.jpg
GEO:33.9673481;-84.2169159
X-APPLE-STRUCTURED-LOCATION;VALUE=URI;X-ADDRESS=Anderby Brewing 110 Technology PKWY STE 200 Peachtree Corners GA 30092 United States;X-APPLE-RADIUS=500;X-TITLE=110 Technology PKWY STE 200:geo:-84.2169159,33.9673481
END:VEVENT
BEGIN:VEVENT
DTSTART;TZID=America/New_York:20220419T180000
DTEND;TZID=America/New_York:20220419T233000
DTSTAMP:20260424T113337
CREATED:20220414T002352Z
LAST-MODIFIED:20220414T002915Z
UID:5284-1650391200-1650411000@butteratl.com
SUMMARY:Face Value by Gary Lockwood\, aka Freehand Profit
DESCRIPTION:Sneakerheads unite at Face Value\, a new exhibition opening April 19 by visual artist Gary Lockwood\, aka Freehand Profit\, who’s done sneaker art collaborations with Adidas\, Def Jam\, Nike and Versace. Come and check out more than 30 of the artist’s exclusive sneaker masks and other elaborate deconstructive works made from rare and highly-coveted classic sneakers such as Nike Air Max\, Travis Scott’s Jordan 1s and more.
URL:https://butteratl.com/event/face-value-by-gary-lockwood-aka-freehand-profit/
LOCATION:SCAD FASH\, 1600 Peachtree St. NW\, Atlanta\, GA\, 30309\, United States
CATEGORIES:Fashion
ATTACH;FMTTYPE=image/jpeg:https://butteratl.com/wp-content/uploads/2022/04/Exhibitions-SCAD-FASH-Gary-Lockwood-Freehand-Profit_0.jpeg
GEO:33.7943888;-84.3877317
X-APPLE-STRUCTURED-LOCATION;VALUE=URI;X-ADDRESS=SCAD FASH 1600 Peachtree St. NW Atlanta GA 30309 United States;X-APPLE-RADIUS=500;X-TITLE=1600 Peachtree St. NW:geo:-84.3877317,33.7943888
END:VEVENT
BEGIN:VEVENT
DTSTART;VALUE=DATE:20220422
DTEND;VALUE=DATE:20220425
DTSTAMP:20260424T113337
CREATED:20220420T230137Z
LAST-MODIFIED:20220420T233442Z
UID:5295-1650585600-1650844799@butteratl.com
SUMMARY:Earth Day Weekend Specials at 3 Parks Wine
DESCRIPTION:Sarah Pierre’s Beyoncé-approved wine shop is hosting a three-day weekend of natural wine appreciation to help you celebrate Earth Day weekend while still popping bottles. Friday there’ll be a biodynamic wine tasting from 5-7:30pm\, then a customer appreciation party on Saturday with complimentary sips as you shop until 5pm. Then pop back in Sunday for a $15 flight of three natural wines.
URL:https://butteratl.com/event/earth-day-weekend-specials-at-3-parks-wine/
LOCATION:3 Parks Wine Shop\, 451 Bill Kennedy Way\, St C\, Atlanta\, GA\, 30316\, United States
CATEGORIES:Food & Drink
ATTACH;FMTTYPE=image/png:https://butteratl.com/wp-content/uploads/2022/04/Screen-Shot-2022-04-20-at-6.53.52-PM.png
GEO:33.7411545;-84.3583321
X-APPLE-STRUCTURED-LOCATION;VALUE=URI;X-ADDRESS=3 Parks Wine Shop 451 Bill Kennedy Way St C Atlanta GA 30316 United States;X-APPLE-RADIUS=500;X-TITLE=451 Bill Kennedy Way\, St C:geo:-84.3583321,33.7411545
END:VEVENT
BEGIN:VEVENT
DTSTART;TZID=America/New_York:20220423T160000
DTEND;TZID=America/New_York:20220423T210000
DTSTAMP:20260424T113337
CREATED:20220420T225319Z
LAST-MODIFIED:20220420T233604Z
UID:5292-1650729600-1650747600@butteratl.com
SUMMARY:Hippin' Hops 1-Year Anniversary
DESCRIPTION:The homies at Draught Season are hosting the first birthday party for Georgia’s first Black-owned brick-and-mortar brewery\, and you’ll wanna be there to toast. There’ll be a special beer release\, guest DJs from 4-9pm\, and plenty of oysters and brews for purchasing for yourself and your people.
URL:https://butteratl.com/event/hippin-hops-1-year-anniversary/
LOCATION:Hippin Hops Brewery\, 1308 Glenwood Ave SE\, Atlanta\, GA\, 30316\, United States
CATEGORIES:Food & Drink
ATTACH;FMTTYPE=image/jpeg:https://butteratl.com/wp-content/uploads/2022/04/nsplsh_4f4d4967776d31695f4e59mv2_d_4096_2925_s_4_2.jpg
GEO:33.7403593;-84.3447847
X-APPLE-STRUCTURED-LOCATION;VALUE=URI;X-ADDRESS=Hippin Hops Brewery 1308 Glenwood Ave SE Atlanta GA 30316 United States;X-APPLE-RADIUS=500;X-TITLE=1308 Glenwood Ave SE:geo:-84.3447847,33.7403593
END:VEVENT
BEGIN:VEVENT
DTSTART;TZID=America/New_York:20220423T220000
DTEND;TZID=America/New_York:20220424T010000
DTSTAMP:20260424T113337
CREATED:20220412T203733Z
LAST-MODIFIED:20220412T203733Z
UID:5276-1650751200-1650762000@butteratl.com
SUMMARY:The Groove featuring Mya
DESCRIPTION:Atlanta’s biggest R&B party is back with special host Mya.
URL:https://butteratl.com/event/the-groove-featuring-mya/
LOCATION:The Masquerade Music Park\, 50 Lower Alabama Street #110\, Atlanta\, GA\, 30303\, United States
CATEGORIES:Dance
ATTACH;FMTTYPE=image/jpeg:https://butteratl.com/wp-content/uploads/2022/04/IMG_A6EAFCF2EE10-1.jpeg
GEO:33.751539;-84.3898659
X-APPLE-STRUCTURED-LOCATION;VALUE=URI;X-ADDRESS=The Masquerade Music Park 50 Lower Alabama Street #110 Atlanta GA 30303 United States;X-APPLE-RADIUS=500;X-TITLE=50 Lower Alabama Street #110:geo:-84.3898659,33.751539
END:VEVENT
BEGIN:VEVENT
DTSTART;TZID=America/New_York:20220430T190000
DTEND;TZID=America/New_York:20220430T213000
DTSTAMP:20260424T113337
CREATED:20220311T152451Z
LAST-MODIFIED:20220311T152451Z
UID:5192-1651345200-1651354200@butteratl.com
SUMMARY:We've Got the Jazz: A Tribe Called Quest
DESCRIPTION:Explore the iconic jazz music that legendary hip-hop group A Tribe Called Quest wove into their musical creations at this unique\, exciting showcase featuring Dashill Smith and Malcolm-Jamal Warner. If you’re someone who wants to learn about where the Low End Theory meets jazz and musical theory\, this one’s for you. The early show starts at 7pm\, the late one starts at 10pm\, and both require either proof of COVID vaccination or a negative COVID test\, so do what you gotta do to get there!
URL:https://butteratl.com/event/weve-got-the-jazz-a-tribe-called-quest/2022-04-30/
LOCATION:Venkman’s\, 740 Ralph McGill BLVD NE\, Atlanta\, GA\, 30312\, United States
CATEGORIES:Music,Performing & Visual Arts
ATTACH;FMTTYPE=image/jpeg:https://butteratl.com/wp-content/uploads/2022/03/273747532_4983136715063239_8146697154027878790_n.jpg
GEO:33.7668076;-84.3632797
X-APPLE-STRUCTURED-LOCATION;VALUE=URI;X-ADDRESS=Venkman’s 740 Ralph McGill BLVD NE Atlanta GA 30312 United States;X-APPLE-RADIUS=500;X-TITLE=740 Ralph McGill BLVD NE:geo:-84.3632797,33.7668076
END:VEVENT
END:VCALENDAR