BEGIN:VCALENDAR
VERSION:2.0
PRODID:-//Butter.ATL - ECPv5.2.1//NONSGML v1.0//EN
CALSCALE:GREGORIAN
METHOD:PUBLISH
X-WR-CALNAME:Butter.ATL
X-ORIGINAL-URL:https://butteratl.com
X-WR-CALDESC:Events for Butter.ATL
BEGIN:VTIMEZONE
TZID:America/New_York
BEGIN:DAYLIGHT
TZOFFSETFROM:-0500
TZOFFSETTO:-0400
TZNAME:EDT
DTSTART:20210314T070000
END:DAYLIGHT
BEGIN:STANDARD
TZOFFSETFROM:-0400
TZOFFSETTO:-0500
TZNAME:EST
DTSTART:20211107T060000
END:STANDARD
END:VTIMEZONE
BEGIN:VEVENT
DTSTART;TZID=America/New_York:20210918T120000
DTEND;TZID=America/New_York:20210918T200000
DTSTAMP:20260422T080103
CREATED:20210915T200941Z
LAST-MODIFIED:20210915T203006Z
UID:4313-1631966400-1631995200@butteratl.com
SUMMARY:YEEK Fest
DESCRIPTION:Nothing is more ATL than a good\, strong\, yeeked-up YEEK\, and if you didn’t know\, the third-annual YEEK Fest is your chance to get familiar and earn a little ATL cultural capital. Known to true ATLiens as a unique  street dance and representation of Atlanta’s brilliant hip-hop music culture\, the 8-hour event will feature youth and adult groups dancing their own versions of YEEK and other specific-to-ATL dance styles. If for some reason you’re not ready to YEEK\, you can still participating in exercise classes in the park. Full disclosure: There’ll probably be some YEEKing going on as you workout too\, so don’t fight it. Oh\, and you don’t have to wait until Saturday: YEEK Fest is the grand finale of what they’re calling a “Week of YEEK\,” so catch up with what’s happening before this weekend here.
URL:https://butteratl.com/event/yeek-fest/
LOCATION:Welcome All Park\, 4255 Will Lee Rd\, South Fulton\, GA\, 30349\, United States
CATEGORIES:Community
ATTACH;FMTTYPE=image/jpeg:https://butteratl.com/wp-content/uploads/2021/09/YEEK.jpeg
GEO:33.6320249;-84.5263064
X-APPLE-STRUCTURED-LOCATION;VALUE=URI;X-ADDRESS=Welcome All Park 4255 Will Lee Rd South Fulton GA 30349 United States;X-APPLE-RADIUS=500;X-TITLE=4255 Will Lee Rd:geo:-84.5263064,33.6320249
END:VEVENT
END:VCALENDAR