BEGIN:VCALENDAR
VERSION:2.0
PRODID:-//Butter.ATL - ECPv5.2.1//NONSGML v1.0//EN
CALSCALE:GREGORIAN
METHOD:PUBLISH
X-WR-CALNAME:Butter.ATL
X-ORIGINAL-URL:https://butteratl.com
X-WR-CALDESC:Events for Butter.ATL
BEGIN:VTIMEZONE
TZID:America/New_York
BEGIN:DAYLIGHT
TZOFFSETFROM:-0500
TZOFFSETTO:-0400
TZNAME:EDT
DTSTART:20200308T070000
END:DAYLIGHT
BEGIN:STANDARD
TZOFFSETFROM:-0400
TZOFFSETTO:-0500
TZNAME:EST
DTSTART:20201101T060000
END:STANDARD
END:VTIMEZONE
BEGIN:VEVENT
DTSTART;TZID=America/New_York:20201128T120000
DTEND;TZID=America/New_York:20201128T160000
DTSTAMP:20260424T121949
CREATED:20201028T101747Z
LAST-MODIFIED:20201028T101747Z
UID:1750-1606564800-1606579200@butteratl.com
SUMMARY:XHJ Empowerment Presents The B.O.B Pop-Up Shop
DESCRIPTION:About this Event\n\n\nThe B.O.B. Pop Up shop will host over 30 Black Owned Businesses on Small Business Saturday\, November 28\, 2020. So after you finish those Thanksgiving leftovers\, bring the family out to network and shop with some of the most Amazing Black Owned Businesses in the city. Get that Christmas shopping done early. \nMeet us there: \nSaturday 11/28/2020 @ 12pm-4pm \nATLA Entertainment Studios \n800 Wendell Court SW Ste E Atlanta\, GA 30336 \n**There will be some amazing food vendors\, so come with an empty stomach!!!**
URL:https://butteratl.com/event/xhj-empowerment-presents-the-b-o-b-pop-up-shop/
LOCATION:ATLA Entertainment Studios\, 800 Wendell Court Southwest\, Atlanta\, GA\, 30336\, United States
CATEGORIES:Business
ATTACH;FMTTYPE=image/jpeg:https://butteratl.com/wp-content/uploads/2020/10/https-_cdn.evbuc_.com_images_114981277_451659839386_1_original.20201017-155920.jpg
ORGANIZER;CN="XHJ%20Empowerment":MAILTO:info@xhjempowerment.com
GEO:33.7672164;-84.5197203
X-APPLE-STRUCTURED-LOCATION;VALUE=URI;X-ADDRESS=ATLA Entertainment Studios 800 Wendell Court Southwest Atlanta GA 30336 United States;X-APPLE-RADIUS=500;X-TITLE=800 Wendell Court Southwest:geo:-84.5197203,33.7672164
END:VEVENT
END:VCALENDAR