BEGIN:VCALENDAR
VERSION:2.0
PRODID:-//Butter.ATL - ECPv5.2.1//NONSGML v1.0//EN
CALSCALE:GREGORIAN
METHOD:PUBLISH
X-WR-CALNAME:Butter.ATL
X-ORIGINAL-URL:https://butteratl.com
X-WR-CALDESC:Events for Butter.ATL
BEGIN:VTIMEZONE
TZID:America/New_York
BEGIN:DAYLIGHT
TZOFFSETFROM:-0500
TZOFFSETTO:-0400
TZNAME:EDT
DTSTART:20200308T070000
END:DAYLIGHT
BEGIN:STANDARD
TZOFFSETFROM:-0400
TZOFFSETTO:-0500
TZNAME:EST
DTSTART:20201101T060000
END:STANDARD
END:VTIMEZONE
BEGIN:VEVENT
DTSTART;TZID=America/New_York:20201129T150000
DTEND;TZID=America/New_York:20201129T190000
DTSTAMP:20260424T101114
CREATED:20201028T093104Z
LAST-MODIFIED:20201028T101746Z
UID:1737-1606662000-1606676400@butteratl.com
SUMMARY:TY'S DRIP GIRLS DAY SHOPPING POP UP SHOP
DESCRIPTION:Girls Day Shopping Pop Up Shop. Ft. Heather Rose\n\n\n\n\n\n\nAbout this Event\n\n\nCome out & shop with your favorite ATL boutiques. \nGirls Day Out Pop Up Shop. Meet & Greet\, 50% off deals\, raffles and more..
URL:https://butteratl.com/event/tys-drip-girls-day-shopping-pop-up-shop/
LOCATION:White Label Creative Space\, 349 Decatur St SE\, Atlanta\, GA\, 30312\, United States
CATEGORIES:Business
ATTACH;FMTTYPE=image/jpeg:https://butteratl.com/wp-content/uploads/2020/10/https-_cdn.evbuc_.com_images_115548271_486730069501_1_original.20201022-174148.jpg
GEO:33.7498984;-84.3777015
X-APPLE-STRUCTURED-LOCATION;VALUE=URI;X-ADDRESS=White Label Creative Space 349 Decatur St SE Atlanta GA 30312 United States;X-APPLE-RADIUS=500;X-TITLE=349 Decatur St SE:geo:-84.3777015,33.7498984
END:VEVENT
END:VCALENDAR