BEGIN:VCALENDAR
VERSION:2.0
PRODID:-//Butter.ATL - ECPv5.2.1//NONSGML v1.0//EN
CALSCALE:GREGORIAN
METHOD:PUBLISH
X-WR-CALNAME:Butter.ATL
X-ORIGINAL-URL:https://butteratl.com
X-WR-CALDESC:Events for Butter.ATL
BEGIN:VTIMEZONE
TZID:America/New_York
BEGIN:DAYLIGHT
TZOFFSETFROM:-0500
TZOFFSETTO:-0400
TZNAME:EDT
DTSTART:20200308T070000
END:DAYLIGHT
BEGIN:STANDARD
TZOFFSETFROM:-0400
TZOFFSETTO:-0500
TZNAME:EST
DTSTART:20201101T060000
END:STANDARD
END:VTIMEZONE
BEGIN:VEVENT
DTSTART;TZID=America/New_York:20201114T200000
DTEND;TZID=America/New_York:20201114T200000
DTSTAMP:20260424T145045
CREATED:20201104T203821Z
LAST-MODIFIED:20201104T203821Z
UID:2461-1605384000-1605384000@butteratl.com
SUMMARY:The Night Travelers
DESCRIPTION:Streaming live at YouTube.com/EOPLive\nThe livestream is FREE but we’re passing the hat for the musicians! To tip them visit Paypal/EOPresents. \nSome socially-distant seating available: https://www.etix.com/ticket/p/3828040/socially-distant-with-the-night-travelers-duluth-eddie-owen-presents-live-at-the-red-clay-music-foundry \nThe Night Travelers are a virtuosic\, artistic and charismatic musical duo with the acoustic impact and harmonic depth to please any audience. \nJames McKinney\, banjoist\, vocalist\, and band leader\, is one of the most innovative and masterful players in the world today and will continually surprise and amaze you. Niki Portmann\, the group’s bassist and second vocalist\, is an astounding and highly skilled player in her own right\, producing soulful and wonderfully tuned bass lines which will hypnotize and have you moving to the music. \nTogether they create a blend of Americana\, Folk\, and World acoustic music that is truly unique and memorable.
URL:https://butteratl.com/event/the-night-travelers/
LOCATION:Red Clay Music Foundry\, 3116 Main Street N.W.\, Duluth\, GA\, 30096\, United States
CATEGORIES:Music
ATTACH;FMTTYPE=image/jpeg:https://butteratl.com/wp-content/uploads/2020/11/Socially_Distant_with_The_Night.jpeg
GEO:34.0066513;-84.1377282
X-APPLE-STRUCTURED-LOCATION;VALUE=URI;X-ADDRESS=Red Clay Music Foundry 3116 Main Street N.W. Duluth GA 30096 United States;X-APPLE-RADIUS=500;X-TITLE=3116 Main Street N.W.:geo:-84.1377282,34.0066513
END:VEVENT
END:VCALENDAR