BEGIN:VCALENDAR
VERSION:2.0
PRODID:-//Butter.ATL - ECPv5.2.1//NONSGML v1.0//EN
CALSCALE:GREGORIAN
METHOD:PUBLISH
X-WR-CALNAME:Butter.ATL
X-ORIGINAL-URL:https://butteratl.com
X-WR-CALDESC:Events for Butter.ATL
BEGIN:VTIMEZONE
TZID:America/New_York
BEGIN:DAYLIGHT
TZOFFSETFROM:-0500
TZOFFSETTO:-0400
TZNAME:EDT
DTSTART:20200308T070000
END:DAYLIGHT
BEGIN:STANDARD
TZOFFSETFROM:-0400
TZOFFSETTO:-0500
TZNAME:EST
DTSTART:20201101T060000
END:STANDARD
END:VTIMEZONE
BEGIN:VEVENT
DTSTART;TZID=America/New_York:20201129T140000
DTEND;TZID=America/New_York:20201129T180000
DTSTAMP:20260424T121954
CREATED:20201028T101747Z
LAST-MODIFIED:20201028T101747Z
UID:1616-1606658400-1606672800@butteratl.com
SUMMARY:THE BLACKOUT POP UP SHOP
DESCRIPTION:Description\n\n\nHosted by: Thrownedoffjuan
URL:https://butteratl.com/event/the-blackout-pop-up-shop/
LOCATION:4505 Fulton Industrial Blvd SW\, 4505 Fulton Industrial Boulevard Southwest\, Atlanta\, GA\, 30036\, United States
ATTACH;FMTTYPE=image/jpeg:https://butteratl.com/wp-content/uploads/2020/10/https-_cdn.evbuc_.com_images_115739613_487425519813_1_original.20201025-000918.jpg
GEO:33.7623217;-84.5367313
X-APPLE-STRUCTURED-LOCATION;VALUE=URI;X-ADDRESS=4505 Fulton Industrial Blvd SW 4505 Fulton Industrial Boulevard Southwest Atlanta GA 30036 United States;X-APPLE-RADIUS=500;X-TITLE=4505 Fulton Industrial Boulevard Southwest:geo:-84.5367313,33.7623217
END:VEVENT
END:VCALENDAR