BEGIN:VCALENDAR
VERSION:2.0
PRODID:-//Butter.ATL - ECPv5.2.1//NONSGML v1.0//EN
CALSCALE:GREGORIAN
METHOD:PUBLISH
X-WR-CALNAME:Butter.ATL
X-ORIGINAL-URL:https://butteratl.com
X-WR-CALDESC:Events for Butter.ATL
BEGIN:VTIMEZONE
TZID:America/New_York
BEGIN:DAYLIGHT
TZOFFSETFROM:-0500
TZOFFSETTO:-0400
TZNAME:EDT
DTSTART:20210314T070000
END:DAYLIGHT
BEGIN:STANDARD
TZOFFSETFROM:-0400
TZOFFSETTO:-0500
TZNAME:EST
DTSTART:20211107T060000
END:STANDARD
END:VTIMEZONE
BEGIN:VEVENT
DTSTART;TZID=America/New_York:20210420T200000
DTEND;TZID=America/New_York:20210420T230000
DTSTAMP:20260424T045202
CREATED:20210416T183232Z
LAST-MODIFIED:20210416T183232Z
UID:3506-1618948800-1618959600@butteratl.com
SUMMARY:SweetWater Super Jam
DESCRIPTION:The Atlanta brewery isn’t doing the full-fledged 420 celebration this year\, but they’re still funking it up on a special day with live music on the patio stage for a socially distanced\, rain-or-shine concert featuring three bands.
URL:https://butteratl.com/event/sweetwater-super-jam/
LOCATION:SweetWater Brewing Company\, 195 Ottley Dr NE\, Atlanta\, GA\, 30324\, United States
CATEGORIES:Food & Drink
GEO:33.808012;-84.3810636
X-APPLE-STRUCTURED-LOCATION;VALUE=URI;X-ADDRESS=SweetWater Brewing Company 195 Ottley Dr NE Atlanta GA 30324 United States;X-APPLE-RADIUS=500;X-TITLE=195 Ottley Dr NE:geo:-84.3810636,33.808012
END:VEVENT
END:VCALENDAR