BEGIN:VCALENDAR
VERSION:2.0
PRODID:-//Butter.ATL - ECPv5.2.1//NONSGML v1.0//EN
CALSCALE:GREGORIAN
METHOD:PUBLISH
X-WR-CALNAME:Butter.ATL
X-ORIGINAL-URL:https://butteratl.com
X-WR-CALDESC:Events for Butter.ATL
BEGIN:VTIMEZONE
TZID:America/New_York
BEGIN:DAYLIGHT
TZOFFSETFROM:-0500
TZOFFSETTO:-0400
TZNAME:EDT
DTSTART:20200308T070000
END:DAYLIGHT
BEGIN:STANDARD
TZOFFSETFROM:-0400
TZOFFSETTO:-0500
TZNAME:EST
DTSTART:20201101T060000
END:STANDARD
END:VTIMEZONE
BEGIN:VEVENT
DTSTART;TZID=America/New_York:20201114T130000
DTEND;TZID=America/New_York:20201114T170000
DTSTAMP:20260424T100949
CREATED:20201102T115927Z
LAST-MODIFIED:20201104T203822Z
UID:1638-1605358800-1605373200@butteratl.com
SUMMARY:Sweet Lovers Pop-Up Launch
DESCRIPTION:Description\n\n\nCome out and support Sweet Lovers first ever Pop- Up event!!! Open to the public! Con enjoy delicious sweets and have a great time!!!
URL:https://butteratl.com/event/sweet-lovers-pop-up-launch/
LOCATION:White Label Creative Space\, 349 Decatur St SE\, Atlanta\, GA\, 30312\, United States
CATEGORIES:Food & Drink
ATTACH;FMTTYPE=image/png:https://butteratl.com/wp-content/uploads/2020/10/https-_cdn.evbuc_.com_images_102781196_262758611609_1_original.20200605-140122.png
GEO:33.7498984;-84.3777015
X-APPLE-STRUCTURED-LOCATION;VALUE=URI;X-ADDRESS=White Label Creative Space 349 Decatur St SE Atlanta GA 30312 United States;X-APPLE-RADIUS=500;X-TITLE=349 Decatur St SE:geo:-84.3777015,33.7498984
END:VEVENT
END:VCALENDAR