BEGIN:VCALENDAR
VERSION:2.0
PRODID:-//Butter.ATL - ECPv5.2.1//NONSGML v1.0//EN
CALSCALE:GREGORIAN
METHOD:PUBLISH
X-WR-CALNAME:Butter.ATL
X-ORIGINAL-URL:https://butteratl.com
X-WR-CALDESC:Events for Butter.ATL
BEGIN:VTIMEZONE
TZID:America/New_York
BEGIN:DAYLIGHT
TZOFFSETFROM:-0500
TZOFFSETTO:-0400
TZNAME:EDT
DTSTART:20210314T070000
END:DAYLIGHT
BEGIN:STANDARD
TZOFFSETFROM:-0400
TZOFFSETTO:-0500
TZNAME:EST
DTSTART:20211107T060000
END:STANDARD
END:VTIMEZONE
BEGIN:VEVENT
DTSTART;VALUE=DATE:20210713
DTEND;VALUE=DATE:20210802
DTSTAMP:20260422T121912
CREATED:20210713T203328Z
LAST-MODIFIED:20210714T165331Z
UID:3961-1626134400-1627862399@butteratl.com
SUMMARY:"Summer in the City" Group Exhibition
DESCRIPTION:See original works from more than 50 visual artists in Atlanta\, including FRKO\, Zipporah Joel\, VAYNE and others at downtown ATL art gallery Cat Eye Creative. The exhibition runs until August 1\, and everyone that reserves a time slot to check out the art will be refreshed with complimentary Topo Chico and even stronger beverages from our folks at Tip Top Proper Cocktails. \n 
URL:https://butteratl.com/event/summer-in-the-city-group-exhibition/
LOCATION:Cat Eye Creative\, 186 Mitchell St SW\, Atlanta\, GA\, 30303\, United States
CATEGORIES:Performing & Visual Arts
ATTACH;FMTTYPE=image/jpeg:https://butteratl.com/wp-content/uploads/2021/07/Summer-in-the-City.jpg
GEO:33.7512442;-84.3939753
X-APPLE-STRUCTURED-LOCATION;VALUE=URI;X-ADDRESS=Cat Eye Creative 186 Mitchell St SW Atlanta GA 30303 United States;X-APPLE-RADIUS=500;X-TITLE=186 Mitchell St SW:geo:-84.3939753,33.7512442
END:VEVENT
END:VCALENDAR