BEGIN:VCALENDAR
VERSION:2.0
PRODID:-//Butter.ATL - ECPv5.2.1//NONSGML v1.0//EN
CALSCALE:GREGORIAN
METHOD:PUBLISH
X-WR-CALNAME:Butter.ATL
X-ORIGINAL-URL:https://butteratl.com
X-WR-CALDESC:Events for Butter.ATL
BEGIN:VTIMEZONE
TZID:America/New_York
BEGIN:DAYLIGHT
TZOFFSETFROM:-0500
TZOFFSETTO:-0400
TZNAME:EDT
DTSTART:20220313T070000
END:DAYLIGHT
BEGIN:STANDARD
TZOFFSETFROM:-0400
TZOFFSETTO:-0500
TZNAME:EST
DTSTART:20221106T060000
END:STANDARD
END:VTIMEZONE
BEGIN:VEVENT
DTSTART;VALUE=DATE:20220617
DTEND;VALUE=DATE:20220618
DTSTAMP:20260422T121830
CREATED:20220407T004215Z
LAST-MODIFIED:20220407T004230Z
UID:5261-1655424000-1655510399@butteratl.com
SUMMARY:SPONSORED EVENT: EARTHGANG Live at The Eastern
DESCRIPTION:ATL’s own Johnny Venus and Doctur Dot’s “Biodeghettable” North American tour comes home to Atlanta on Friday\, June 17. Pull up at The Eastern and see the Ghetto Gods perform classics and new cuts from the recently released album\, plus opening sets by Mike Dimes and Pigeons & Planes.
URL:https://butteratl.com/event/sponsored-event-earthgang-live-at-the-eastern/
LOCATION:The Eastern\, 777 Memorial Dr SE Building C\, Atlanta\, GA\, 30316\, United States
CATEGORIES:Music
ATTACH;FMTTYPE=image/jpeg:https://butteratl.com/wp-content/uploads/2022/04/220617_earthgang_eastern_1x1-scaled.jpg
GEO:33.7465583;-84.3611226
X-APPLE-STRUCTURED-LOCATION;VALUE=URI;X-ADDRESS=The Eastern 777 Memorial Dr SE Building C Atlanta GA 30316 United States;X-APPLE-RADIUS=500;X-TITLE=777 Memorial Dr SE Building C:geo:-84.3611226,33.7465583
END:VEVENT
END:VCALENDAR