BEGIN:VCALENDAR
VERSION:2.0
PRODID:-//Butter.ATL - ECPv5.2.1//NONSGML v1.0//EN
CALSCALE:GREGORIAN
METHOD:PUBLISH
X-WR-CALNAME:Butter.ATL
X-ORIGINAL-URL:https://butteratl.com
X-WR-CALDESC:Events for Butter.ATL
BEGIN:VTIMEZONE
TZID:America/New_York
BEGIN:DAYLIGHT
TZOFFSETFROM:-0500
TZOFFSETTO:-0400
TZNAME:EDT
DTSTART:20200308T070000
END:DAYLIGHT
BEGIN:STANDARD
TZOFFSETFROM:-0400
TZOFFSETTO:-0500
TZNAME:EST
DTSTART:20201101T060000
END:STANDARD
END:VTIMEZONE
BEGIN:VEVENT
DTSTART;TZID=America/New_York:20201107T100000
DTEND;TZID=America/New_York:20201107T170000
DTSTAMP:20260425T000537
CREATED:20201102T120009Z
LAST-MODIFIED:20201104T203902Z
UID:1718-1604743200-1604768400@butteratl.com
SUMMARY:Small Business Pop-Up Shop! Hosted by Christine's Creations
DESCRIPTION:Small Business Pop-Up Shop Hosted By Christine’s Creations! Come and shop to you drop with the Christine Crew and other Vendors! Shop Black!\n\n\n\n\n\n\nAbout this Event\n\n\nThis will be Christine’s Creation first ever pop-up shop. Come and shop with a few small black owned businesses. Please sign up for the shop time slot you would like to shop during. It is very important that you pick a time that best works for your schedule. Due to COVID-19 we have the limit the amount of customers that shop at a time. The Christine Crew will provide shoppers with gloves\, masks and sanitizer to keep the area clean and safe for all shoppers. We will also take temperatures at the door to ensure that all shoppers are health enough to shop. Lastly social distancing and wearing a mask correctly will be enforced for to ensure the safety of employees\, vendors and shoppers.
URL:https://butteratl.com/event/small-business-pop-up-shop-hosted-by-christines-creations/
LOCATION:7340 Old National Hwy\, 7340 Old National Highway\, Riverdale\, GA\, 30296\, United States
CATEGORIES:Business
ATTACH;FMTTYPE=image/jpeg:https://butteratl.com/wp-content/uploads/2020/10/https-_cdn.evbuc_.com_images_114171065_458148786266_1_original.20201009-154656.jpg
GEO:33.5573579;-84.4660764
X-APPLE-STRUCTURED-LOCATION;VALUE=URI;X-ADDRESS=7340 Old National Hwy 7340 Old National Highway Riverdale GA 30296 United States;X-APPLE-RADIUS=500;X-TITLE=7340 Old National Highway:geo:-84.4660764,33.5573579
END:VEVENT
END:VCALENDAR