BEGIN:VCALENDAR
VERSION:2.0
PRODID:-//Butter.ATL - ECPv5.2.1//NONSGML v1.0//EN
CALSCALE:GREGORIAN
METHOD:PUBLISH
X-WR-CALNAME:Butter.ATL
X-ORIGINAL-URL:https://butteratl.com
X-WR-CALDESC:Events for Butter.ATL
BEGIN:VTIMEZONE
TZID:America/New_York
BEGIN:DAYLIGHT
TZOFFSETFROM:-0500
TZOFFSETTO:-0400
TZNAME:EDT
DTSTART:20200308T070000
END:DAYLIGHT
BEGIN:STANDARD
TZOFFSETFROM:-0400
TZOFFSETTO:-0500
TZNAME:EST
DTSTART:20201101T060000
END:STANDARD
END:VTIMEZONE
BEGIN:VEVENT
DTSTART;TZID=America/New_York:20201108T120000
DTEND;TZID=America/New_York:20201108T190000
DTSTAMP:20260424T071632
CREATED:20201102T115949Z
LAST-MODIFIED:20201104T203841Z
UID:1622-1604836800-1604862000@butteratl.com
SUMMARY:Self Care Sunday Pop up. Come get pampered at this amazing pop up.
DESCRIPTION:Come get pampered at this amazing pop up\, where we will provide facials\, waxing body contouring and more\,
URL:https://butteratl.com/event/self-care-sunday-pop-up-come-get-pampered-at-this-amazing-pop-up/
LOCATION:7978 Rockbridge Rd SW\, 7978 Rockbridge Road Southwest\, Lithonia\, GA\, 30058\, United States
CATEGORIES:Food & Drink,Home & Lifestyle
ATTACH;FMTTYPE=image/jpeg:https://butteratl.com/wp-content/uploads/2020/10/https-_cdn.evbuc_.com_images_112084143_144911654268_1_original.20200920-215913.jpg
GEO:33.775962;-84.076119
X-APPLE-STRUCTURED-LOCATION;VALUE=URI;X-ADDRESS=7978 Rockbridge Rd SW 7978 Rockbridge Road Southwest Lithonia GA 30058 United States;X-APPLE-RADIUS=500;X-TITLE=7978 Rockbridge Road Southwest:geo:-84.076119,33.775962
END:VEVENT
END:VCALENDAR