BEGIN:VCALENDAR
VERSION:2.0
PRODID:-//Butter.ATL - ECPv5.2.1//NONSGML v1.0//EN
CALSCALE:GREGORIAN
METHOD:PUBLISH
X-WR-CALNAME:Butter.ATL
X-ORIGINAL-URL:https://butteratl.com
X-WR-CALDESC:Events for Butter.ATL
BEGIN:VTIMEZONE
TZID:America/New_York
BEGIN:DAYLIGHT
TZOFFSETFROM:-0500
TZOFFSETTO:-0400
TZNAME:EDT
DTSTART:20200308T070000
END:DAYLIGHT
BEGIN:STANDARD
TZOFFSETFROM:-0400
TZOFFSETTO:-0500
TZNAME:EST
DTSTART:20201101T060000
END:STANDARD
END:VTIMEZONE
BEGIN:VEVENT
DTSTART;TZID=America/New_York:20201115T130000
DTEND;TZID=America/New_York:20201115T180000
DTSTAMP:20260424T165034
CREATED:20201102T115926Z
LAST-MODIFIED:20201104T203808Z
UID:1677-1605445200-1605463200@butteratl.com
SUMMARY:Queer Threads: A Pop-Up Thrift Shop!
DESCRIPTION:Queer Threads\, Southern Fried Queer Pride’s pop-up thrift shop\, is popping up on Sunday\, November 15th from 1PM to 6PM at Georgia Beer Garde\n\n\n\n\n\n\nAbout this Event\n\n\nHaven’t been thrifting since before COVID-19? In need of some new threads and on a budget? Look no further! \nQueer Threads\, Southern Fried Queer Pride’s pop-up thrift shop\, is popping up on Sunday\, November 15th from 1PM to 6PM at Georgia Beer Garden. \nWe are doing a $5 grab bag sale! We will provide a bag\, and you only pay $5 for everything you can put in the bag. Multiple bags can be used. \n*This event will be held outside and is social distanced. Masks are required. PPE will be provided at the event. \n*TO ATTEND THIS EVENT\, YOU MUST RSVP VIA THIS LINK: sfqp.info/qtnov20 \n*Only 20 shoppers will be allowed in 50 minutes shopping blocks. \nParking: Street parking on Edgewood Ave is free on Sundays. Nearby lots are also available. \nArtwork by Joshua Jarrett. \nSouthern Fried Queer Pride is an Atlanta based organization empowering Black & QTPOC-centered communities in the South through the arts! For more info\, find us at: southernfriedqueerpride.com. For questions\, email us at: contact@southernfriedqueerpride.com
URL:https://butteratl.com/event/queer-threads-a-pop-up-thrift-shop/
LOCATION:Georgia Beer Garden\, 420 Edgewood Avenue Southeast\, Atlanta\, GA\, 30312\, United States
CATEGORIES:Shopping
ATTACH;FMTTYPE=image/jpeg:https://butteratl.com/wp-content/uploads/2020/10/https-_cdn.evbuc_.com_images_115166733_133683501554_1_original.20201019-200416.jpg
GEO:33.754491;-84.3738697
X-APPLE-STRUCTURED-LOCATION;VALUE=URI;X-ADDRESS=Georgia Beer Garden 420 Edgewood Avenue Southeast Atlanta GA 30312 United States;X-APPLE-RADIUS=500;X-TITLE=420 Edgewood Avenue Southeast:geo:-84.3738697,33.754491
END:VEVENT
END:VCALENDAR