BEGIN:VCALENDAR
VERSION:2.0
PRODID:-//Butter.ATL - ECPv5.2.1//NONSGML v1.0//EN
CALSCALE:GREGORIAN
METHOD:PUBLISH
X-WR-CALNAME:Butter.ATL
X-ORIGINAL-URL:https://butteratl.com
X-WR-CALDESC:Events for Butter.ATL
BEGIN:VTIMEZONE
TZID:America/New_York
BEGIN:DAYLIGHT
TZOFFSETFROM:-0500
TZOFFSETTO:-0400
TZNAME:EDT
DTSTART:20200308T070000
END:DAYLIGHT
BEGIN:STANDARD
TZOFFSETFROM:-0400
TZOFFSETTO:-0500
TZNAME:EST
DTSTART:20201101T060000
END:STANDARD
END:VTIMEZONE
BEGIN:VEVENT
DTSTART;TZID=America/New_York:20201107T130000
DTEND;TZID=America/New_York:20201107T170000
DTSTAMP:20260424T173649
CREATED:20201102T120008Z
LAST-MODIFIED:20201104T203901Z
UID:1599-1604754000-1604768400@butteratl.com
SUMMARY:Pop Up Shop
DESCRIPTION:Description\n\n\nVendors Wanted This Pop Up Shop is for the community. Get to know your local small businesses. Come shop and network with over 15+ vendors
URL:https://butteratl.com/event/pop-up-shop/
LOCATION:6009 Memorial Dr\, 6009 Memorial Drive\, Stone Mountain\, GA\, United States
ATTACH;FMTTYPE=image/jpeg:https://butteratl.com/wp-content/uploads/2020/10/https-_cdn.evbuc_.com_images_115472889_317593439173_1_original.20201022-024011.jpg
GEO:33.8011153;-84.192467
X-APPLE-STRUCTURED-LOCATION;VALUE=URI;X-ADDRESS=6009 Memorial Dr 6009 Memorial Drive Stone Mountain GA United States;X-APPLE-RADIUS=500;X-TITLE=6009 Memorial Drive:geo:-84.192467,33.8011153
END:VEVENT
END:VCALENDAR