BEGIN:VCALENDAR
VERSION:2.0
PRODID:-//Butter.ATL - ECPv5.2.1//NONSGML v1.0//EN
CALSCALE:GREGORIAN
METHOD:PUBLISH
X-WR-CALNAME:Butter.ATL
X-ORIGINAL-URL:https://butteratl.com
X-WR-CALDESC:Events for Butter.ATL
BEGIN:VTIMEZONE
TZID:America/New_York
BEGIN:DAYLIGHT
TZOFFSETFROM:-0500
TZOFFSETTO:-0400
TZNAME:EDT
DTSTART:20200308T070000
END:DAYLIGHT
BEGIN:STANDARD
TZOFFSETFROM:-0400
TZOFFSETTO:-0500
TZNAME:EST
DTSTART:20201101T060000
END:STANDARD
END:VTIMEZONE
BEGIN:VEVENT
DTSTART;TZID=America/New_York:20201114T140000
DTEND;TZID=America/New_York:20201114T200000
DTSTAMP:20260424T121134
CREATED:20201102T115926Z
LAST-MODIFIED:20201104T203821Z
UID:1705-1605362400-1605384000@butteratl.com
SUMMARY:Pop Up Shop Chefs & Bartenders Edition
DESCRIPTION:Description\n\n\nBring the family out shop good eat good have a drink and play some games listen to some good music and around great vibes
URL:https://butteratl.com/event/pop-up-shop-chefs-bartenders-edition/
LOCATION:Club Lacura\, 1919 Metropolitan Parkway Southwest\, Atlanta\, GA\, 30315\, United States
CATEGORIES:Food & Drink,Music
ATTACH;FMTTYPE=image/jpeg:https://butteratl.com/wp-content/uploads/2020/10/https-_cdn.evbuc_.com_images_113325949_9772605711_1_original.20201001-202256.jpg
GEO:33.7027029;-84.410229
X-APPLE-STRUCTURED-LOCATION;VALUE=URI;X-ADDRESS=Club Lacura 1919 Metropolitan Parkway Southwest Atlanta GA 30315 United States;X-APPLE-RADIUS=500;X-TITLE=1919 Metropolitan Parkway Southwest:geo:-84.410229,33.7027029
END:VEVENT
END:VCALENDAR