BEGIN:VCALENDAR
VERSION:2.0
PRODID:-//Butter.ATL - ECPv5.2.1//NONSGML v1.0//EN
CALSCALE:GREGORIAN
METHOD:PUBLISH
X-WR-CALNAME:Butter.ATL
X-ORIGINAL-URL:https://butteratl.com
X-WR-CALDESC:Events for Butter.ATL
BEGIN:VTIMEZONE
TZID:America/New_York
BEGIN:DAYLIGHT
TZOFFSETFROM:-0500
TZOFFSETTO:-0400
TZNAME:EDT
DTSTART:20210314T070000
END:DAYLIGHT
BEGIN:STANDARD
TZOFFSETFROM:-0400
TZOFFSETTO:-0500
TZNAME:EST
DTSTART:20211107T060000
END:STANDARD
END:VTIMEZONE
BEGIN:VEVENT
DTSTART;TZID=America/New_York:20210612T220000
DTEND;TZID=America/New_York:20210613T030000
DTSTAMP:20260422T152638
CREATED:20210609T175114Z
LAST-MODIFIED:20210609T175114Z
UID:3806-1623535200-1623553200@butteratl.com
SUMMARY:Playas Room: Gunna's Birthday Party
DESCRIPTION:There’s not much information around what exactly will happen at Gold Room during Gunna’s birthday party\, but go ahead and RSVP for what’s sure to be a celebrity packed\, pics-or-you-weren’t-there night\, celebrating the YSL Records star’s latest trip around the sun.
URL:https://butteratl.com/event/playas-room-gunnas-birthday-party/
LOCATION:Gold Room\, 2416 Piedmont Ave NE\, Atlanta\, GA\, 30324\, United States
CATEGORIES:Music
ATTACH;FMTTYPE=image/png:https://butteratl.com/wp-content/uploads/2021/06/Screen-Shot-2021-06-09-at-1.42.22-PM.png
GEO:33.8078337;-84.3659487
X-APPLE-STRUCTURED-LOCATION;VALUE=URI;X-ADDRESS=Gold Room 2416 Piedmont Ave NE Atlanta GA 30324 United States;X-APPLE-RADIUS=500;X-TITLE=2416 Piedmont Ave NE:geo:-84.3659487,33.8078337
END:VEVENT
END:VCALENDAR