BEGIN:VCALENDAR
VERSION:2.0
PRODID:-//Butter.ATL - ECPv5.2.1//NONSGML v1.0//EN
CALSCALE:GREGORIAN
METHOD:PUBLISH
X-WR-CALNAME:Butter.ATL
X-ORIGINAL-URL:https://butteratl.com
X-WR-CALDESC:Events for Butter.ATL
BEGIN:VTIMEZONE
TZID:America/New_York
BEGIN:DAYLIGHT
TZOFFSETFROM:-0500
TZOFFSETTO:-0400
TZNAME:EDT
DTSTART:20200308T070000
END:DAYLIGHT
BEGIN:STANDARD
TZOFFSETFROM:-0400
TZOFFSETTO:-0500
TZNAME:EST
DTSTART:20201101T060000
END:STANDARD
END:VTIMEZONE
BEGIN:VEVENT
DTSTART;TZID=America/New_York:20201114T140000
DTEND;TZID=America/New_York:20201114T190000
DTSTAMP:20260424T165008
CREATED:20201102T115926Z
LAST-MODIFIED:20201104T203821Z
UID:1732-1605362400-1605380400@butteratl.com
SUMMARY:Maude Home Market Launch
DESCRIPTION:We are celebrating the official launch of Maude Home Market with a resin class hosted by Taylor Douglass!\n\n\n\n\n\n\nAbout this Event\n\n\nWe are celebrating the official launch of Maude Home Market with a resin art class hosted by Taylor Bailey Douglass! Shortly after the class\, Maude Home Market will host a small pop-up to showcase what their shop has to offer! \nClass: 2:30pm-4pm • Pop-up: 4pm-7pm \nA ticket is required to attend the paint & sip class\, but the pop-up is free\, so tell a friend to tell a friend! \nTicket includes all supplies and a 10 x 10 canvas for production. \nWe are anti-COVID\, a mask is required for entry!
URL:https://butteratl.com/event/maude-home-market-launch/
LOCATION:En-Visionary Studios\, Valley Hill Rd SW\, Riverdale\, GA\, 30274\, United States
CATEGORIES:Performing & Visual Arts
ATTACH;FMTTYPE=image/jpeg:https://butteratl.com/wp-content/uploads/2020/10/https-_cdn.evbuc_.com_images_115585555_254545528672_1_original.20201022-233825.jpg
GEO:33.5677878;-84.3984961
X-APPLE-STRUCTURED-LOCATION;VALUE=URI;X-ADDRESS=En-Visionary Studios Valley Hill Rd SW Riverdale GA 30274 United States;X-APPLE-RADIUS=500;X-TITLE=Valley Hill Rd SW:geo:-84.3984961,33.5677878
END:VEVENT
END:VCALENDAR