BEGIN:VCALENDAR
VERSION:2.0
PRODID:-//Butter.ATL - ECPv5.2.1//NONSGML v1.0//EN
CALSCALE:GREGORIAN
METHOD:PUBLISH
X-WR-CALNAME:Butter.ATL
X-ORIGINAL-URL:https://butteratl.com
X-WR-CALDESC:Events for Butter.ATL
BEGIN:VTIMEZONE
TZID:America/New_York
BEGIN:DAYLIGHT
TZOFFSETFROM:-0500
TZOFFSETTO:-0400
TZNAME:EDT
DTSTART:20200308T070000
END:DAYLIGHT
BEGIN:STANDARD
TZOFFSETFROM:-0400
TZOFFSETTO:-0500
TZNAME:EST
DTSTART:20201101T060000
END:STANDARD
END:VTIMEZONE
BEGIN:VEVENT
DTSTART;TZID=America/New_York:20201107T140000
DTEND;TZID=America/New_York:20201107T150000
DTSTAMP:20260424T173735
CREATED:20201102T120007Z
LAST-MODIFIED:20201104T203901Z
UID:1899-1604757600-1604761200@butteratl.com
SUMMARY:Let's Decorate-Mommy and Me
DESCRIPTION:Bring your little one and Come and Enjoy!\n\n\n\n\n\n\nAbout this Event\n\n\nRegister via Eventbrite or Register via Cash App: $PopShopolisOnMain
URL:https://butteratl.com/event/lets-decorate-mommy-and-me/
LOCATION:PopShopolis On Main\, 3393 Main Street\, College Park\, GA\, 30337\, United States
CATEGORIES:Business
ATTACH;FMTTYPE=image/jpeg:https://butteratl.com/wp-content/uploads/2020/10/https-_cdn.evbuc_.com_images_113848445_427673459892_1_original.20201007-024457.jpg
GEO:33.6630754;-84.4465881
X-APPLE-STRUCTURED-LOCATION;VALUE=URI;X-ADDRESS=PopShopolis On Main 3393 Main Street College Park GA 30337 United States;X-APPLE-RADIUS=500;X-TITLE=3393 Main Street:geo:-84.4465881,33.6630754
END:VEVENT
END:VCALENDAR