BEGIN:VCALENDAR
VERSION:2.0
PRODID:-//Butter.ATL - ECPv5.2.1//NONSGML v1.0//EN
CALSCALE:GREGORIAN
METHOD:PUBLISH
X-WR-CALNAME:Butter.ATL
X-ORIGINAL-URL:https://butteratl.com
X-WR-CALDESC:Events for Butter.ATL
BEGIN:VTIMEZONE
TZID:America/New_York
BEGIN:DAYLIGHT
TZOFFSETFROM:-0500
TZOFFSETTO:-0400
TZNAME:EDT
DTSTART:20210314T070000
END:DAYLIGHT
BEGIN:STANDARD
TZOFFSETFROM:-0400
TZOFFSETTO:-0500
TZNAME:EST
DTSTART:20211107T060000
END:STANDARD
END:VTIMEZONE
BEGIN:VEVENT
DTSTART;TZID=America/New_York:20210811T170000
DTEND;TZID=America/New_York:20210814T190000
DTSTAMP:20260423T222059
CREATED:20210810T163952Z
LAST-MODIFIED:20210810T163952Z
UID:4106-1628701200-1628967600@butteratl.com
SUMMARY:Legends Distillery Grand Opening
DESCRIPTION:From August 11 through the 14th\, Cumming-based Legends Distillery is inviting you to its grand opening\, and greeting you with complimentary drinks as they debut. Stop by their new 5\,000-square-foot tasting room between 5 and 7 p.m. and you’ll get free tastes of their award-winning spirits\, which are distilled with patented technology that reduces toxins in alcohol by as least half without compromising taste\, and you’ll also get to take a free tour of the facility. The big grand opening party is on August 14\, starting at 3 p.m.\, and will also have food trucks and live music\, and a visit from Cumming mayor Troy Brumbalow to cut the ribbon and officially welcome them to town.
URL:https://butteratl.com/event/legends-distillery-grand-opening/
LOCATION:Legends Distillery\, 210 Industrial Park Dr Suite A\,\, Cumming\, GA\, 30040\, United States
CATEGORIES:Food & Drink
ATTACH;FMTTYPE=image/jpeg:https://butteratl.com/wp-content/uploads/2021/08/Legends_Grand_Opening_5x7_Postcard_Front.jpg
GEO:34.1974105;-84.1452524
X-APPLE-STRUCTURED-LOCATION;VALUE=URI;X-ADDRESS=Legends Distillery 210 Industrial Park Dr Suite A Cumming GA 30040 United States;X-APPLE-RADIUS=500;X-TITLE=210 Industrial Park Dr Suite A\,:geo:-84.1452524,34.1974105
END:VEVENT
END:VCALENDAR