BEGIN:VCALENDAR
VERSION:2.0
PRODID:-//Butter.ATL - ECPv5.2.1//NONSGML v1.0//EN
CALSCALE:GREGORIAN
METHOD:PUBLISH
X-WR-CALNAME:Butter.ATL
X-ORIGINAL-URL:https://butteratl.com
X-WR-CALDESC:Events for Butter.ATL
BEGIN:VTIMEZONE
TZID:America/New_York
BEGIN:DAYLIGHT
TZOFFSETFROM:-0500
TZOFFSETTO:-0400
TZNAME:EDT
DTSTART:20200308T070000
END:DAYLIGHT
BEGIN:STANDARD
TZOFFSETFROM:-0400
TZOFFSETTO:-0500
TZNAME:EST
DTSTART:20201101T060000
END:STANDARD
END:VTIMEZONE
BEGIN:VEVENT
DTSTART;TZID=America/New_York:20201112T200000
DTEND;TZID=America/New_York:20201112T200000
DTSTAMP:20260424T163147
CREATED:20201102T115948Z
LAST-MODIFIED:20201104T203840Z
UID:1880-1605211200-1605211200@butteratl.com
SUMMARY:Laugh-Lines & Stretch-Marks: Comedy for Women\, Moms\, and Couples!
DESCRIPTION:Laugh-Lines & Stretch-Marks: Comedy for Women\, Moms\, and Couples! LIVE at MadLife Stage & Studios! \n\nHOST: Heather Tolley-Bauer\nFACEBOOK \nEach month features a fabulous\, funny new line up of top comics along with Atlanta’s favorite momedian\, Heather Tolley-Bauer! \nHeather Tolley-Bauer wears a lot of hats\, she’s a wife\, mom\, comedian and colon cancer survivor. Her mom com delivers the right mix of funny and realism to sold out crowds of women\, moms and couples all over Atlanta and in select cities across the country. \nShe books\, hosts and produces a wildly popular show called Laugh-Lines & Stretch-Marks®️\, has opened for nationally touring comic Brian Moote\, appeared on the Weather Channel’s original program\, Weather Gone Viral\, and was recently selected to perform at the prestigious LaughFest in Grand Rapids\, Michigan. \n\nVENUE INFORMATION:\nAll ticket holders are able to order food and drinks during the event. Standing Room Ticket holders generally place their orders with the venue bar staff. Main Floor Reserved Table and VIP Balcony Table ticket holders are served by MadLife’s friendly wait staff throughout the event. \nRefer to the seating map below for a layout of the venue for this show. Please note the table arrangement is subject to change and not all tables may be available. \nIf You Wish To Select A Specific Reserved Table:  \nHolders of VIP Balcony and Main Floor Reserved Table tickets have the ability to select any available reserved table from the moment their tickets are purchased\, up until 30 minutes BEFORE doors open to the event (i.e. if doors are at 6:30\, cutoff time for selecting a reserved table would be at 6:00). Please note\, MadLife’s Box Office will not be staffed until shows resume in our venue\, so please do not call our Box Office. Email will be the best method of communication in the near term. For table selection\, please email: tlaney@madlifegroup.com. Please note that tables cannot be selected online for this show and if you do not select a table\, MadLife will select one for you. Selecting a table is not required\, but is an option available. \nFor any wheelchair or ADA needs\, please contact the Box Office in advance of the event at tlaney@madlifegroup.com. \nPlease Note: Ticket Prices May Increase At Any Time \nFor any other questions regarding the event or tickets\, please contact tlaney@madlifegroup.com.
URL:https://butteratl.com/event/laugh-lines-stretch-marks-comedy-for-women-moms-and-couples/
LOCATION:MadLife Stage & Studios\, 8722 Main St\, Woodstock\, GA\, 30188\, United States
CATEGORIES:Performing & Visual Arts
ATTACH;FMTTYPE=image/jpeg:https://butteratl.com/wp-content/uploads/2020/10/https-_cdn.evbuc_.com_images_111585767_238437766128_1_original.20200713-145722.jpg
GEO:34.0990627;-84.5204781
X-APPLE-STRUCTURED-LOCATION;VALUE=URI;X-ADDRESS=MadLife Stage & Studios 8722 Main St Woodstock GA 30188 United States;X-APPLE-RADIUS=500;X-TITLE=8722 Main St:geo:-84.5204781,34.0990627
END:VEVENT
END:VCALENDAR