BEGIN:VCALENDAR
VERSION:2.0
PRODID:-//Butter.ATL - ECPv5.2.1//NONSGML v1.0//EN
CALSCALE:GREGORIAN
METHOD:PUBLISH
X-WR-CALNAME:Butter.ATL
X-ORIGINAL-URL:https://butteratl.com
X-WR-CALDESC:Events for Butter.ATL
BEGIN:VTIMEZONE
TZID:America/New_York
BEGIN:DAYLIGHT
TZOFFSETFROM:-0500
TZOFFSETTO:-0400
TZNAME:EDT
DTSTART:20210314T070000
END:DAYLIGHT
BEGIN:STANDARD
TZOFFSETFROM:-0400
TZOFFSETTO:-0500
TZNAME:EST
DTSTART:20211107T060000
END:STANDARD
END:VTIMEZONE
BEGIN:VEVENT
DTSTART;TZID=America/New_York:20210619T110000
DTEND;TZID=America/New_York:20210619T210000
DTSTAMP:20260422T152638
CREATED:20210615T165156Z
LAST-MODIFIED:20210615T165156Z
UID:3849-1624100400-1624136400@butteratl.com
SUMMARY:Juneteenth Celebration of Freedom Festival
DESCRIPTION:The Atlanta branch of the NAACP is linking with the City of East Point to throw an 10-hour festival in the downtown area\, with a parade including 200+ participants\, and dozens of art\, food and clothing vendors. Admission is free\, and the parade kicks off at East Point First Mallalieu United Methodist Church\, ending on Ware Street and followed by live music\, a youth talent show and more.
URL:https://butteratl.com/event/juneteenth-celebration-of-freedom-festival/
LOCATION:East Point Downtown Commons\, 2757 East Point St.\, East Point\, GA\, 30344\, United States
CATEGORIES:Community,Holiday
ATTACH;FMTTYPE=image/jpeg:https://butteratl.com/wp-content/uploads/2021/06/Juneteenth-Celebration-of-Freedom.jpg
GEO:33.6803279;-84.4406511
X-APPLE-STRUCTURED-LOCATION;VALUE=URI;X-ADDRESS=East Point Downtown Commons 2757 East Point St. East Point GA 30344 United States;X-APPLE-RADIUS=500;X-TITLE=2757 East Point St.:geo:-84.4406511,33.6803279
END:VEVENT
END:VCALENDAR