BEGIN:VCALENDAR
VERSION:2.0
PRODID:-//Butter.ATL - ECPv5.2.1//NONSGML v1.0//EN
CALSCALE:GREGORIAN
METHOD:PUBLISH
X-WR-CALNAME:Butter.ATL
X-ORIGINAL-URL:https://butteratl.com
X-WR-CALDESC:Events for Butter.ATL
BEGIN:VTIMEZONE
TZID:America/New_York
BEGIN:DAYLIGHT
TZOFFSETFROM:-0500
TZOFFSETTO:-0400
TZNAME:EDT
DTSTART:20210314T070000
END:DAYLIGHT
BEGIN:STANDARD
TZOFFSETFROM:-0400
TZOFFSETTO:-0500
TZNAME:EST
DTSTART:20211107T060000
END:STANDARD
END:VTIMEZONE
BEGIN:VEVENT
DTSTART;VALUE=DATE:20210320
DTEND;VALUE=DATE:20210322
DTSTAMP:20260424T054522
CREATED:20210319T163912Z
LAST-MODIFIED:20210319T164021Z
UID:3312-1616198400-1616371199@butteratl.com
SUMMARY:Georgia Tiny House Festival
DESCRIPTION:Learn all about the tiny house way of life at this 6th-annual two-day event\, where you’ll see a variety of structures small and smaller\, along with custom conversions from wheeled motor vehicles to livable domiciles\, displayed by professional builders\, owners and vendors. The list of COVID protocols is extensive\, and in addition to free parking there’ll also be live music and crafts for sale. Kids 12 and under get free admission with a paying adult.
URL:https://butteratl.com/event/georgia-tiny-house-festival/
LOCATION:Georgia International Horse Park\, 1996 Centennial Olympic Parkway\, Conyers\, GA\, 30013\, United States
CATEGORIES:Home & Lifestyle
ATTACH;FMTTYPE=image/jpeg:https://butteratl.com/wp-content/uploads/2021/03/Tiny-House-Festival.jpg
GEO:33.6699662;-83.9391475
X-APPLE-STRUCTURED-LOCATION;VALUE=URI;X-ADDRESS=Georgia International Horse Park 1996 Centennial Olympic Parkway Conyers GA 30013 United States;X-APPLE-RADIUS=500;X-TITLE=1996 Centennial Olympic Parkway:geo:-83.9391475,33.6699662
END:VEVENT
END:VCALENDAR