BEGIN:VCALENDAR
VERSION:2.0
PRODID:-//Butter.ATL - ECPv5.2.1//NONSGML v1.0//EN
CALSCALE:GREGORIAN
METHOD:PUBLISH
X-WR-CALNAME:Butter.ATL
X-ORIGINAL-URL:https://butteratl.com
X-WR-CALDESC:Events for Butter.ATL
BEGIN:VTIMEZONE
TZID:America/New_York
BEGIN:DAYLIGHT
TZOFFSETFROM:-0500
TZOFFSETTO:-0400
TZNAME:EDT
DTSTART:20210314T070000
END:DAYLIGHT
BEGIN:STANDARD
TZOFFSETFROM:-0400
TZOFFSETTO:-0500
TZNAME:EST
DTSTART:20211107T060000
END:STANDARD
END:VTIMEZONE
BEGIN:VEVENT
DTSTART;VALUE=DATE:20211014
DTEND;VALUE=DATE:20211018
DTSTAMP:20260423T162304
CREATED:20211013T173536Z
LAST-MODIFIED:20211013T173554Z
UID:4408-1634169600-1634515199@butteratl.com
SUMMARY:Gather 'round
DESCRIPTION:Get a look at Atlanta’s new super-foodie’s hotel\, Epicurean Atlanta\, and break bread with new and old friends during this full-on culinary weekend highlighting stories of diversity and culture in food. The inaugural Gather ’round festival will celebrate chefs\, beverage experts\, entertainers and artists who’ll bring their crafts to life through immersive signature events\, collaboration dinners\, cooking demonstrations\, seminars\, discussions\, and masterclasses. If you’re hungry when it’s done\, it’ll only be for more good times and energy.
URL:https://butteratl.com/event/gather-round/
LOCATION:Epicurean Atlanta\, 1117 W Peachtree St NW\, Atlanta\, GA\, 30309\, United States
CATEGORIES:Food & Drink
ATTACH;FMTTYPE=image/png:https://butteratl.com/wp-content/uploads/2021/10/GatherRound_website_mobile_PC.png
GEO:33.7851884;-84.3874492
X-APPLE-STRUCTURED-LOCATION;VALUE=URI;X-ADDRESS=Epicurean Atlanta 1117 W Peachtree St NW Atlanta GA 30309 United States;X-APPLE-RADIUS=500;X-TITLE=1117 W Peachtree St NW:geo:-84.3874492,33.7851884
END:VEVENT
END:VCALENDAR