BEGIN:VCALENDAR
VERSION:2.0
PRODID:-//Butter.ATL - ECPv5.2.1//NONSGML v1.0//EN
CALSCALE:GREGORIAN
METHOD:PUBLISH
X-WR-CALNAME:Butter.ATL
X-ORIGINAL-URL:https://butteratl.com
X-WR-CALDESC:Events for Butter.ATL
BEGIN:VTIMEZONE
TZID:America/New_York
BEGIN:DAYLIGHT
TZOFFSETFROM:-0500
TZOFFSETTO:-0400
TZNAME:EDT
DTSTART:20220313T070000
END:DAYLIGHT
BEGIN:STANDARD
TZOFFSETFROM:-0400
TZOFFSETTO:-0500
TZNAME:EST
DTSTART:20221106T060000
END:STANDARD
END:VTIMEZONE
BEGIN:VEVENT
DTSTART;TZID=America/New_York:20220626T180000
DTEND;TZID=America/New_York:20220626T233000
DTSTAMP:20260422T121707
CREATED:20220624T152017Z
LAST-MODIFIED:20220624T152017Z
UID:5313-1656266400-1656286200@butteratl.com
SUMMARY:Garden Soiree
DESCRIPTION:We look forward to celebrating our 5 years of building stronger communities through education\, enrichment\, and empowerment together. \nMasks are optional.\nDress code is Cocktail-formal\nThis is a mostly indoor event with an outdoor courtyard.
URL:https://butteratl.com/event/garden-soiree/
LOCATION:Roundtrip Brewing Company\, 1279 Seaboard Industrial Blvd NW\, Atlanta\, GA\, 30318\, United States
CATEGORIES:Charity & Causes
ATTACH;FMTTYPE=image/png:https://butteratl.com/wp-content/uploads/2022/06/Screen-Shot-2022-06-24-at-11.19.58-AM.png
GEO:33.807618;-84.4298302
X-APPLE-STRUCTURED-LOCATION;VALUE=URI;X-ADDRESS=Roundtrip Brewing Company 1279 Seaboard Industrial Blvd NW Atlanta GA 30318 United States;X-APPLE-RADIUS=500;X-TITLE=1279 Seaboard Industrial Blvd NW:geo:-84.4298302,33.807618
END:VEVENT
END:VCALENDAR