BEGIN:VCALENDAR
VERSION:2.0
PRODID:-//Butter.ATL - ECPv5.2.1//NONSGML v1.0//EN
CALSCALE:GREGORIAN
METHOD:PUBLISH
X-WR-CALNAME:Butter.ATL
X-ORIGINAL-URL:https://butteratl.com
X-WR-CALDESC:Events for Butter.ATL
BEGIN:VTIMEZONE
TZID:America/New_York
BEGIN:DAYLIGHT
TZOFFSETFROM:-0500
TZOFFSETTO:-0400
TZNAME:EDT
DTSTART:20210314T070000
END:DAYLIGHT
BEGIN:STANDARD
TZOFFSETFROM:-0400
TZOFFSETTO:-0500
TZNAME:EST
DTSTART:20211107T060000
END:STANDARD
END:VTIMEZONE
BEGIN:VEVENT
DTSTART;VALUE=DATE:20210508
DTEND;VALUE=DATE:20210525
DTSTAMP:20260422T182403
CREATED:20210510T155829Z
LAST-MODIFIED:20210510T155829Z
UID:3652-1620432000-1621900799@butteratl.com
SUMMARY:FREAKO N' FRANDZ Contemporary Art Exhibit
DESCRIPTION:Cat Eye Creative is proud to present Atlanta Legend FREAKO RICO N’ FRANDZ taking over their gallery space with art from ATL’s most influential contemporary artists\, including Zipporah Joel\, Chilly-O and DR. DAX. 
URL:https://butteratl.com/event/freako-n-frandz-contemporary-art-exhibit/
LOCATION:Cat Eye Creative\, 186 Mitchell St SW\, Atlanta\, GA\, 30303\, United States
CATEGORIES:Performing & Visual Arts
GEO:33.7512442;-84.3939753
X-APPLE-STRUCTURED-LOCATION;VALUE=URI;X-ADDRESS=Cat Eye Creative 186 Mitchell St SW Atlanta GA 30303 United States;X-APPLE-RADIUS=500;X-TITLE=186 Mitchell St SW:geo:-84.3939753,33.7512442
END:VEVENT
END:VCALENDAR