BEGIN:VCALENDAR
VERSION:2.0
PRODID:-//Butter.ATL - ECPv5.2.1//NONSGML v1.0//EN
CALSCALE:GREGORIAN
METHOD:PUBLISH
X-WR-CALNAME:Butter.ATL
X-ORIGINAL-URL:https://butteratl.com
X-WR-CALDESC:Events for Butter.ATL
BEGIN:VTIMEZONE
TZID:America/New_York
BEGIN:DAYLIGHT
TZOFFSETFROM:-0500
TZOFFSETTO:-0400
TZNAME:EDT
DTSTART:20210314T070000
END:DAYLIGHT
BEGIN:STANDARD
TZOFFSETFROM:-0400
TZOFFSETTO:-0500
TZNAME:EST
DTSTART:20211107T060000
END:STANDARD
END:VTIMEZONE
BEGIN:VEVENT
DTSTART;TZID=America/New_York:20210723T170000
DTEND;TZID=America/New_York:20210723T200000
DTSTAMP:20260423T202904
CREATED:20210721T175606Z
LAST-MODIFIED:20210721T175606Z
UID:3996-1627059600-1627070400@butteratl.com
SUMMARY:Fish Fry Friday
DESCRIPTION:Chef Robert Butts of Twisted Soul\, one of the best Atlanta restaurants for elevated soul food\, is putting on a fish fry once again at Steady Hand’s westside brewery. You can get snapper or catfish with either spaghetti or grits (you must not be from around here if this sounds unfamiliar)\, along with a side of cole slaw\, for $12. And don’t trip: this isn’t your local fried fish franchise (shout out to them though) — this is a seriously talented executive chef at one of Atlanta’s best restaurants. This man cooketh! Don’t be late\, and don’t be asking if they’ve got extra hush puppies for sale.
URL:https://butteratl.com/event/fish-fry-friday/
LOCATION:Steady Hand Beer Co.\, 1611 Ellsworth Industrial Blvd\, Suite F\, Atlanta\, GA\, 30318\, United States
CATEGORIES:Food & Drink
ATTACH;FMTTYPE=image/jpeg:https://butteratl.com/wp-content/uploads/2021/07/Fish-Fry-Friday-2.jpeg
GEO:33.7978173;-84.4247404
X-APPLE-STRUCTURED-LOCATION;VALUE=URI;X-ADDRESS=Steady Hand Beer Co. 1611 Ellsworth Industrial Blvd Suite F Atlanta GA 30318 United States;X-APPLE-RADIUS=500;X-TITLE=1611 Ellsworth Industrial Blvd\, Suite F:geo:-84.4247404,33.7978173
END:VEVENT
END:VCALENDAR