BEGIN:VCALENDAR
VERSION:2.0
PRODID:-//Butter.ATL - ECPv5.2.1//NONSGML v1.0//EN
CALSCALE:GREGORIAN
METHOD:PUBLISH
X-WR-CALNAME:Butter.ATL
X-ORIGINAL-URL:https://butteratl.com
X-WR-CALDESC:Events for Butter.ATL
BEGIN:VTIMEZONE
TZID:America/New_York
BEGIN:DAYLIGHT
TZOFFSETFROM:-0500
TZOFFSETTO:-0400
TZNAME:EDT
DTSTART:20210314T070000
END:DAYLIGHT
BEGIN:STANDARD
TZOFFSETFROM:-0400
TZOFFSETTO:-0500
TZNAME:EST
DTSTART:20211107T060000
END:STANDARD
END:VTIMEZONE
BEGIN:VEVENT
DTSTART;TZID=America/New_York:20210828T110000
DTEND;TZID=America/New_York:20210828T190000
DTSTAMP:20260422T092625
CREATED:20210825T212224Z
LAST-MODIFIED:20210825T212224Z
UID:4266-1630148400-1630177200@butteratl.com
SUMMARY:Fish Fry Fest
DESCRIPTION:Taste fish that’s fried in all styles and flavors from all around at ATL’s new Rodney Cook Sr. Park in Vine City. Reports are that there’ll be crazy amounts of fried fish for your teeth to chomp into\, plus live music\, and kids activities. Guests will get to meet chefs and vote for a winner in the Best Tasting Fried Fish Champion among top neighborhood spots. By the way\, entry is free and masks are required.
URL:https://butteratl.com/event/fish-fry-fest/
LOCATION:Rodney Cook Sr. Park\, 600 Joseph E. Boone Blvd. NW\, Atlanta\, GA\, 30314
CATEGORIES:Food & Drink
ATTACH;FMTTYPE=image/jpeg:https://butteratl.com/wp-content/uploads/2021/08/FISH-FRY-FEST-IMAGE.jpeg
GEO:33.763231;-84.407163
X-APPLE-STRUCTURED-LOCATION;VALUE=URI;X-ADDRESS=Rodney Cook Sr. Park 600 Joseph E. Boone Blvd. NW Atlanta GA 30314;X-APPLE-RADIUS=500;X-TITLE=600 Joseph E. Boone Blvd. NW:geo:-84.407163,33.763231
END:VEVENT
END:VCALENDAR