BEGIN:VCALENDAR
VERSION:2.0
PRODID:-//Butter.ATL - ECPv5.2.1//NONSGML v1.0//EN
CALSCALE:GREGORIAN
METHOD:PUBLISH
X-WR-CALNAME:Butter.ATL
X-ORIGINAL-URL:https://butteratl.com
X-WR-CALDESC:Events for Butter.ATL
BEGIN:VTIMEZONE
TZID:America/New_York
BEGIN:DAYLIGHT
TZOFFSETFROM:-0500
TZOFFSETTO:-0400
TZNAME:EDT
DTSTART:20200308T070000
END:DAYLIGHT
BEGIN:STANDARD
TZOFFSETFROM:-0400
TZOFFSETTO:-0500
TZNAME:EST
DTSTART:20201101T060000
END:STANDARD
END:VTIMEZONE
BEGIN:VEVENT
DTSTART;TZID=America/New_York:20201129T150000
DTEND;TZID=America/New_York:20201129T183000
DTSTAMP:20260424T131836
CREATED:20201028T101747Z
LAST-MODIFIED:20201028T101747Z
UID:1619-1606662000-1606674600@butteratl.com
SUMMARY:Fall Pop Up Shop
DESCRIPTION:Description\n\n\nA great networking event for small businesses! We provide the tables\, chairs and the good vibes!
URL:https://butteratl.com/event/fall-pop-up-shop/
LOCATION:6023 Roosevelt Hwy\, 6023 Roosevelt Highway\, Union City\, GA\, 30291\, United States
CATEGORIES:Business
ATTACH;FMTTYPE=image/jpeg:https://butteratl.com/wp-content/uploads/2020/10/https-_cdn.evbuc_.com_images_113238447_46616467947_1_original.20201001-052847.jpg
GEO:33.591019;-84.5492668
X-APPLE-STRUCTURED-LOCATION;VALUE=URI;X-ADDRESS=6023 Roosevelt Hwy 6023 Roosevelt Highway Union City GA 30291 United States;X-APPLE-RADIUS=500;X-TITLE=6023 Roosevelt Highway:geo:-84.5492668,33.591019
END:VEVENT
END:VCALENDAR