BEGIN:VCALENDAR
VERSION:2.0
PRODID:-//Butter.ATL - ECPv5.2.1//NONSGML v1.0//EN
CALSCALE:GREGORIAN
METHOD:PUBLISH
X-WR-CALNAME:Butter.ATL
X-ORIGINAL-URL:https://butteratl.com
X-WR-CALDESC:Events for Butter.ATL
BEGIN:VTIMEZONE
TZID:America/New_York
BEGIN:DAYLIGHT
TZOFFSETFROM:-0500
TZOFFSETTO:-0400
TZNAME:EDT
DTSTART:20210314T070000
END:DAYLIGHT
BEGIN:STANDARD
TZOFFSETFROM:-0400
TZOFFSETTO:-0500
TZNAME:EST
DTSTART:20211107T060000
END:STANDARD
END:VTIMEZONE
BEGIN:VEVENT
DTSTART;TZID=America/New_York:20210630T190000
DTEND;TZID=America/New_York:20210630T220000
DTSTAMP:20260422T152632
CREATED:20210630T210428Z
LAST-MODIFIED:20210630T210428Z
UID:3924-1625079600-1625090400@butteratl.com
SUMMARY:Draught Season Pineapple Habanero Summer Ale Release
DESCRIPTION:Craft beer lifestyle brand Draught Season and Hippin Hops Brewery have collaborated to release Who’s Ya Daddy! Pineapple Habanero Summer Ale in cans at the East Atlanta Village brewpub and restaurant. Get there and pick up a four-pack of the sweet and spicy\, 5.2%-ABV beer from Georgia’s first standalone brick-and-mortar brewery while supplies last.
URL:https://butteratl.com/event/draught-season-pineapple-habanero-summer-ale-release/
LOCATION:Hippin Hops Brewery\, 1308 Glenwood Ave SE\, Atlanta\, GA\, 30316\, United States
CATEGORIES:Food & Drink
ATTACH;FMTTYPE=image/jpeg:https://butteratl.com/wp-content/uploads/2021/06/Hippin-Hops-Draught.jpeg
GEO:33.7403593;-84.3447847
X-APPLE-STRUCTURED-LOCATION;VALUE=URI;X-ADDRESS=Hippin Hops Brewery 1308 Glenwood Ave SE Atlanta GA 30316 United States;X-APPLE-RADIUS=500;X-TITLE=1308 Glenwood Ave SE:geo:-84.3447847,33.7403593
END:VEVENT
END:VCALENDAR