BEGIN:VCALENDAR
VERSION:2.0
PRODID:-//Butter.ATL - ECPv5.2.1//NONSGML v1.0//EN
CALSCALE:GREGORIAN
METHOD:PUBLISH
X-WR-CALNAME:Butter.ATL
X-ORIGINAL-URL:https://butteratl.com
X-WR-CALDESC:Events for Butter.ATL
BEGIN:VTIMEZONE
TZID:America/New_York
BEGIN:DAYLIGHT
TZOFFSETFROM:-0500
TZOFFSETTO:-0400
TZNAME:EDT
DTSTART:20210314T070000
END:DAYLIGHT
BEGIN:STANDARD
TZOFFSETFROM:-0400
TZOFFSETTO:-0500
TZNAME:EST
DTSTART:20211107T060000
END:STANDARD
END:VTIMEZONE
BEGIN:VEVENT
DTSTART;TZID=America/New_York:20210501T150000
DTEND;TZID=America/New_York:20210501T150000
DTSTAMP:20260424T031844
CREATED:20210416T155511Z
LAST-MODIFIED:20210419T133945Z
UID:3500-1619881200-1619881200@butteratl.com
SUMMARY:Derby Day Garden Party at Willow Bar
DESCRIPTION:Put on some seersucker and join this Kentucky-Derby-inspired event\, where there’ll be a Best Dressed competition\, a live broadcast of the races from Churchill Downs\, and a multi-course Southern meal from Executive Chef Brandon Chavannes\, accented with three Woodford Reserve cocktails.
URL:https://butteratl.com/event/derby-day-garden-party-at-willow-bar/
LOCATION:Kimpton Sylvan Hotel\, 374 East Paces Ferry Road Northeast\, Atlanta\, 30305\, United States
ATTACH;FMTTYPE=image/png:https://butteratl.com/wp-content/uploads/2021/04/Derby_butter.png
GEO:33.839074;-84.3749952
X-APPLE-STRUCTURED-LOCATION;VALUE=URI;X-ADDRESS=Kimpton Sylvan Hotel 374 East Paces Ferry Road Northeast Atlanta 30305 United States;X-APPLE-RADIUS=500;X-TITLE=374 East Paces Ferry Road Northeast:geo:-84.3749952,33.839074
END:VEVENT
END:VCALENDAR