BEGIN:VCALENDAR
VERSION:2.0
PRODID:-//Butter.ATL - ECPv5.2.1//NONSGML v1.0//EN
CALSCALE:GREGORIAN
METHOD:PUBLISH
X-WR-CALNAME:Butter.ATL
X-ORIGINAL-URL:https://butteratl.com
X-WR-CALDESC:Events for Butter.ATL
BEGIN:VTIMEZONE
TZID:America/New_York
BEGIN:DAYLIGHT
TZOFFSETFROM:-0500
TZOFFSETTO:-0400
TZNAME:EDT
DTSTART:20210314T070000
END:DAYLIGHT
BEGIN:STANDARD
TZOFFSETFROM:-0400
TZOFFSETTO:-0500
TZNAME:EST
DTSTART:20211107T060000
END:STANDARD
END:VTIMEZONE
BEGIN:VEVENT
DTSTART;TZID=America/New_York:20210505T110000
DTEND;TZID=America/New_York:20210505T230000
DTSTAMP:20260422T184307
CREATED:20210505T143410Z
LAST-MODIFIED:20210505T153230Z
UID:3605-1620212400-1620255600@butteratl.com
SUMMARY:Cinco de Mayo at BOTICA
DESCRIPTION:Starting at noon\, Chef Mimmo invites you to celebrate Cinco de Mayo at his Mexican-Spanish Buckhead restaurant. $5 will get you a variety of specials\, including margaritas\, Bravo tequila shots\, XX lager\, and bowls of Paella. There’ll also be live music throughout the day. \n  \n 
URL:https://butteratl.com/event/cinco-de-mayo-at-botica/
LOCATION:BOTICA\, 1820 Peachtree Rd NW\, Atlanta\, GA\, 30309\, United States
CATEGORIES:Food & Drink
ATTACH;FMTTYPE=image/jpeg:https://butteratl.com/wp-content/uploads/2021/05/Botica_Cincodemayo_final-e1620228741745.jpeg
GEO:33.8051071;-84.3942053
X-APPLE-STRUCTURED-LOCATION;VALUE=URI;X-ADDRESS=BOTICA 1820 Peachtree Rd NW Atlanta GA 30309 United States;X-APPLE-RADIUS=500;X-TITLE=1820 Peachtree Rd NW:geo:-84.3942053,33.8051071
END:VEVENT
END:VCALENDAR