BEGIN:VCALENDAR
VERSION:2.0
PRODID:-//Butter.ATL - ECPv5.2.1//NONSGML v1.0//EN
CALSCALE:GREGORIAN
METHOD:PUBLISH
X-WR-CALNAME:Butter.ATL
X-ORIGINAL-URL:https://butteratl.com
X-WR-CALDESC:Events for Butter.ATL
BEGIN:VTIMEZONE
TZID:America/New_York
BEGIN:DAYLIGHT
TZOFFSETFROM:-0500
TZOFFSETTO:-0400
TZNAME:EDT
DTSTART:20210314T070000
END:DAYLIGHT
BEGIN:STANDARD
TZOFFSETFROM:-0400
TZOFFSETTO:-0500
TZNAME:EST
DTSTART:20211107T060000
END:STANDARD
END:VTIMEZONE
BEGIN:VEVENT
DTSTART;TZID=America/New_York:20210505T080000
DTEND;TZID=America/New_York:20210505T170000
DTSTAMP:20260422T184324
CREATED:20210505T151726Z
LAST-MODIFIED:20210505T151949Z
UID:3609-1620201600-1620234000@butteratl.com
SUMMARY:Cinco de Mayo at Bar Mercado
DESCRIPTION:The Krog Street Market Spanish restaurant will have $5 frozen or on-the-rocks margaritas in a variety of flavors (classic\, strawberry\, peach and mango)\, along with $20 margarita carafes\, and special Chilean sea bass tacos with bay leaf rice and blue corn tortillas. Reservations are recommended for dine-in customers.
URL:https://butteratl.com/event/cinco-de-mayo-at-bar-mercado/
LOCATION:Bar Mercado\, 99-V\, Krog St NE\, Atlanta\, GA\, 30307\, United States
CATEGORIES:Food & Drink
ATTACH;FMTTYPE=image/jpeg:https://butteratl.com/wp-content/uploads/2021/05/Bar-Mercado-Cinco-e1620225484294.jpeg
GEO:33.7568037;-84.3641078
X-APPLE-STRUCTURED-LOCATION;VALUE=URI;X-ADDRESS=Bar Mercado 99-V Krog St NE Atlanta GA 30307 United States;X-APPLE-RADIUS=500;X-TITLE=99-V\, Krog St NE:geo:-84.3641078,33.7568037
END:VEVENT
END:VCALENDAR