BEGIN:VCALENDAR
VERSION:2.0
PRODID:-//Butter.ATL - ECPv5.2.1//NONSGML v1.0//EN
CALSCALE:GREGORIAN
METHOD:PUBLISH
X-WR-CALNAME:Butter.ATL
X-ORIGINAL-URL:https://butteratl.com
X-WR-CALDESC:Events for Butter.ATL
BEGIN:VTIMEZONE
TZID:America/New_York
BEGIN:DAYLIGHT
TZOFFSETFROM:-0500
TZOFFSETTO:-0400
TZNAME:EDT
DTSTART:20210314T070000
END:DAYLIGHT
BEGIN:STANDARD
TZOFFSETFROM:-0400
TZOFFSETTO:-0500
TZNAME:EST
DTSTART:20211107T060000
END:STANDARD
END:VTIMEZONE
BEGIN:VEVENT
DTSTART;TZID=America/New_York:20210501T201500
DTEND;TZID=America/New_York:20210501T223000
DTSTAMP:20260424T014717
CREATED:20210428T043127Z
LAST-MODIFIED:20210428T043127Z
UID:3561-1619900100-1619908200@butteratl.com
SUMMARY:"Carterland" World Premiere
DESCRIPTION:The Atlanta Film Festival + Creative Conference (ATLFF) is hosting a socially distanced and in-person world premiere of the documentary film “Carterland\,” which reexamines the impact of President Jimmy Carter and why he is “a misunderstood president whose work shaped generations to come.” The film will screen at the Carter Presidential Center and will also be available through the ATLFF virtual catalog.
URL:https://butteratl.com/event/carterland-world-premiere/
LOCATION:The Jimmy Carter Presidential Library and Museum\, 441 John Lewis Freedom Pkwy NE\, Atlanta\, GA\, 30307\, United States
CATEGORIES:Film & Media
ATTACH;FMTTYPE=image/jpeg:https://butteratl.com/wp-content/uploads/2021/04/Carterland.jpg
GEO:33.7663441;-84.3562588
X-APPLE-STRUCTURED-LOCATION;VALUE=URI;X-ADDRESS=The Jimmy Carter Presidential Library and Museum 441 John Lewis Freedom Pkwy NE Atlanta GA 30307 United States;X-APPLE-RADIUS=500;X-TITLE=441 John Lewis Freedom Pkwy NE:geo:-84.3562588,33.7663441
END:VEVENT
END:VCALENDAR