BEGIN:VCALENDAR
VERSION:2.0
PRODID:-//Butter.ATL - ECPv5.2.1//NONSGML v1.0//EN
CALSCALE:GREGORIAN
METHOD:PUBLISH
X-WR-CALNAME:Butter.ATL
X-ORIGINAL-URL:https://butteratl.com
X-WR-CALDESC:Events for Butter.ATL
BEGIN:VTIMEZONE
TZID:America/New_York
BEGIN:DAYLIGHT
TZOFFSETFROM:-0500
TZOFFSETTO:-0400
TZNAME:EDT
DTSTART:20200308T070000
END:DAYLIGHT
BEGIN:STANDARD
TZOFFSETFROM:-0400
TZOFFSETTO:-0500
TZNAME:EST
DTSTART:20201101T060000
END:STANDARD
END:VTIMEZONE
BEGIN:VEVENT
DTSTART;TZID=America/New_York:20201128T160000
DTEND;TZID=America/New_York:20201128T200000
DTSTAMP:20260424T131901
CREATED:20201028T101747Z
LAST-MODIFIED:20201028T101747Z
UID:1792-1606579200-1606593600@butteratl.com
SUMMARY:Black Saturday Extravaganza
DESCRIPTION:About this Event\n\n\nMeraki Dynasty x Goddess Lush present \nBlack Saturday Extravaganza \nFree Entry & Parking will be available \nGreat Businesses\, Music\, & Vibes \nAlcoholic beverages will be available to Vendors and Guests over 21+ (ID required) \nUnlimited Mimosas $10 \nInterested in becoming a vendor? \nPlease email merakidynasty@gmail.com for more information.
URL:https://butteratl.com/event/black-saturday-extravaganza/
LOCATION:White Label Creative Space\, 349 Decatur St SE\, Atlanta\, GA\, 30312\, United States
CATEGORIES:Business
ATTACH;FMTTYPE=image/jpeg:https://butteratl.com/wp-content/uploads/2020/10/https-_cdn.evbuc_.com_images_115901611_487882319181_1_original.20201026-212220.jpg
ORGANIZER;CN="Meraki%20Dynasty%20x%20Goddess%20Lush":MAILTO:merakidynasty@gmail.com
GEO:33.7498984;-84.3777015
X-APPLE-STRUCTURED-LOCATION;VALUE=URI;X-ADDRESS=White Label Creative Space 349 Decatur St SE Atlanta GA 30312 United States;X-APPLE-RADIUS=500;X-TITLE=349 Decatur St SE:geo:-84.3777015,33.7498984
END:VEVENT
END:VCALENDAR