BEGIN:VCALENDAR
VERSION:2.0
PRODID:-//Butter.ATL - ECPv5.2.1//NONSGML v1.0//EN
CALSCALE:GREGORIAN
METHOD:PUBLISH
X-WR-CALNAME:Butter.ATL
X-ORIGINAL-URL:https://butteratl.com
X-WR-CALDESC:Events for Butter.ATL
BEGIN:VTIMEZONE
TZID:America/New_York
BEGIN:DAYLIGHT
TZOFFSETFROM:-0500
TZOFFSETTO:-0400
TZNAME:EDT
DTSTART:20220313T070000
END:DAYLIGHT
BEGIN:STANDARD
TZOFFSETFROM:-0400
TZOFFSETTO:-0500
TZNAME:EST
DTSTART:20221106T060000
END:STANDARD
END:VTIMEZONE
BEGIN:VEVENT
DTSTART;VALUE=DATE:20220216
DTEND;VALUE=DATE:20220218
DTSTAMP:20260423T073526
CREATED:20220214T213951Z
LAST-MODIFIED:20220214T214024Z
UID:5044-1644969600-1645142399@butteratl.com
SUMMARY:2022 Atlanta Jewish Film Festival
DESCRIPTION:Grab your popcorn and enjoy over 50 films from 18 different countries at the 2022 Atlanta Jewish Film Festival\, which will be completely virtual this year. Along with a wide variety of world-class films to choose from\, you can also participate in curated Q&As\, discussions with filmmakers and fellow festivalgoers\, and even cast your votes in the audience awards! Tickets start at $16\, so grab yours and start watching.
URL:https://butteratl.com/event/atlanta-jewish-film-festival-2/
CATEGORIES:Festival,Film & Media
ATTACH;FMTTYPE=image/jpeg:https://butteratl.com/wp-content/uploads/2022/02/272832818_10159900294783293_1390431786024176727_n.jpg
END:VEVENT
END:VCALENDAR