BEGIN:VCALENDAR
VERSION:2.0
PRODID:-//Butter.ATL - ECPv5.2.1//NONSGML v1.0//EN
CALSCALE:GREGORIAN
METHOD:PUBLISH
X-WR-CALNAME:Butter.ATL
X-ORIGINAL-URL:https://butteratl.com
X-WR-CALDESC:Events for Butter.ATL
BEGIN:VTIMEZONE
TZID:America/New_York
BEGIN:DAYLIGHT
TZOFFSETFROM:-0500
TZOFFSETTO:-0400
TZNAME:EDT
DTSTART:20220313T070000
END:DAYLIGHT
BEGIN:STANDARD
TZOFFSETFROM:-0400
TZOFFSETTO:-0500
TZNAME:EST
DTSTART:20221106T060000
END:STANDARD
END:VTIMEZONE
BEGIN:VEVENT
DTSTART;TZID=America/New_York:20220723T110000
DTEND;TZID=America/New_York:20220723T180000
DTSTAMP:20260422T123617
CREATED:20220627T150737Z
LAST-MODIFIED:20220627T151436Z
UID:5331-1658574000-1658599200@butteratl.com
SUMMARY:Atlanta Ice Cream Festival
DESCRIPTION:Announcing the 12th Annual Atlanta Ice Cream Festival… and we’re back at Piedmont Park!\n\n\nSAVE THE DATE! Sat. July 23; 11 a.m. – 6 p.m. It’s going to be gelato fun!!
URL:https://butteratl.com/event/atlanta-ice-cream-festival/
LOCATION:Piedmont Park\, 500 10th St NE\, Atlanta\, GA\, 30306\, United States
CATEGORIES:Festival,Food & Drink
ATTACH;FMTTYPE=image/jpeg:https://butteratl.com/wp-content/uploads/2022/06/IMG_7098.jpg
GEO:33.7822276;-84.369258
X-APPLE-STRUCTURED-LOCATION;VALUE=URI;X-ADDRESS=Piedmont Park 500 10th St NE Atlanta GA 30306 United States;X-APPLE-RADIUS=500;X-TITLE=500 10th St NE:geo:-84.369258,33.7822276
END:VEVENT
END:VCALENDAR