BEGIN:VCALENDAR
VERSION:2.0
PRODID:-//Butter.ATL - ECPv5.2.1//NONSGML v1.0//EN
CALSCALE:GREGORIAN
METHOD:PUBLISH
X-WR-CALNAME:Butter.ATL
X-ORIGINAL-URL:https://butteratl.com
X-WR-CALDESC:Events for Butter.ATL
BEGIN:VTIMEZONE
TZID:America/New_York
BEGIN:DAYLIGHT
TZOFFSETFROM:-0500
TZOFFSETTO:-0400
TZNAME:EDT
DTSTART:20200308T070000
END:DAYLIGHT
BEGIN:STANDARD
TZOFFSETFROM:-0400
TZOFFSETTO:-0500
TZNAME:EST
DTSTART:20201101T060000
END:STANDARD
END:VTIMEZONE
BEGIN:VEVENT
DTSTART;TZID=America/New_York:20201128T120000
DTEND;TZID=America/New_York:20201128T160000
DTSTAMP:20260424T011543
CREATED:20201028T101747Z
LAST-MODIFIED:20201028T101747Z
UID:1713-1606564800-1606579200@butteratl.com
SUMMARY:Atlanta Black Business Owners Pop Up Shop
DESCRIPTION:This Small Business Saturday\, Shop local Black Owned Businesses all in one location!\n\n\n\n\n\n\nAbout this Event\n\n\nThe Atlanta Black Business Owners Pop Up Shop is a family friendly event. Come out and enjoy good music\, tasty food and custom products all from talented entrepreneurs based here in Atlanta! \nWe have curated a diverse selection of vendors to offer you the best experience and opportunity to find your next favorite product! \nThe event is FREE\, but registration guarantees you receive a swag bag full of goodies and information about more local Black Owned Businesses. \nFor everyone’s safety\, masks are required!!
URL:https://butteratl.com/event/atlanta-black-business-owners-pop-up-shop/
LOCATION:135 Riverside Pkwy\, 135 Riverside Pkwy\, Austell\, GA\, 30168\, United States
CATEGORIES:Business
ATTACH;FMTTYPE=image/jpeg:https://butteratl.com/wp-content/uploads/2020/10/https-_cdn.evbuc_.com_images_115720037_66763901621_1_original.20201024-160526.jpg
GEO:33.7717145;-84.5573189
X-APPLE-STRUCTURED-LOCATION;VALUE=URI;X-ADDRESS=135 Riverside Pkwy 135 Riverside Pkwy Austell GA 30168 United States;X-APPLE-RADIUS=500;X-TITLE=135 Riverside Pkwy:geo:-84.5573189,33.7717145
END:VEVENT
END:VCALENDAR