BEGIN:VCALENDAR
VERSION:2.0
PRODID:-//Butter.ATL - ECPv5.2.1//NONSGML v1.0//EN
CALSCALE:GREGORIAN
METHOD:PUBLISH
X-WR-CALNAME:Butter.ATL
X-ORIGINAL-URL:https://butteratl.com
X-WR-CALDESC:Events for Butter.ATL
BEGIN:VTIMEZONE
TZID:America/New_York
BEGIN:DAYLIGHT
TZOFFSETFROM:-0500
TZOFFSETTO:-0400
TZNAME:EDT
DTSTART:20220313T070000
END:DAYLIGHT
BEGIN:STANDARD
TZOFFSETFROM:-0400
TZOFFSETTO:-0500
TZNAME:EST
DTSTART:20221106T060000
END:STANDARD
END:VTIMEZONE
BEGIN:VEVENT
DTSTART;VALUE=DATE:20220903
DTEND;VALUE=DATE:20220906
DTSTAMP:20260422T121416
CREATED:20220901T022425Z
LAST-MODIFIED:20220901T022425Z
UID:5449-1662163200-1662422399@butteratl.com
SUMMARY:Art in the Park
DESCRIPTION:The Marietta Art in the Park festival\, a Labor Day tradition\, is the only fine art festival held in Cobb County. The festival features 175 fine artists both local and national artists\, the Chalk Spot-a street chalk art display and the Children’s Art Alley-with plenty of free art stations. Stroll through the park\, buy one of a kind art pieces\, visit the art galleries or museums\, dine in one of the many wonderful restaurants all are located in and around Glover Park on the Marietta Square.
URL:https://butteratl.com/event/art-in-the-park/
LOCATION:Marietta Square\, 117 North Park Square\, Marietta\, GA\, 30060\, United States
CATEGORIES:Community,Festival,Performing & Visual Arts
ATTACH;FMTTYPE=image/jpeg:https://butteratl.com/wp-content/uploads/2022/08/488cccfa-8ec4-4b1d-ad61-958c70f8d682-1.jpeg
GEO:33.9536122;-84.5492054
X-APPLE-STRUCTURED-LOCATION;VALUE=URI;X-ADDRESS=Marietta Square 117 North Park Square Marietta GA 30060 United States;X-APPLE-RADIUS=500;X-TITLE=117 North Park Square:geo:-84.5492054,33.9536122
END:VEVENT
END:VCALENDAR