BEGIN:VCALENDAR
VERSION:2.0
PRODID:-//Butter.ATL - ECPv5.2.1//NONSGML v1.0//EN
CALSCALE:GREGORIAN
METHOD:PUBLISH
X-WR-CALNAME:Butter.ATL
X-ORIGINAL-URL:https://butteratl.com
X-WR-CALDESC:Events for Butter.ATL
BEGIN:VTIMEZONE
TZID:America/New_York
BEGIN:DAYLIGHT
TZOFFSETFROM:-0500
TZOFFSETTO:-0400
TZNAME:EDT
DTSTART:20200308T070000
END:DAYLIGHT
BEGIN:STANDARD
TZOFFSETFROM:-0400
TZOFFSETTO:-0500
TZNAME:EST
DTSTART:20201101T060000
END:STANDARD
END:VTIMEZONE
BEGIN:VEVENT
DTSTART;TZID=America/New_York:20201107T193000
DTEND;TZID=America/New_York:20201107T193000
DTSTAMP:20260424T155453
CREATED:20201104T203841Z
LAST-MODIFIED:20201104T203841Z
UID:2408-1604777400-1604777400@butteratl.com
SUMMARY:Actor's Worst Nightmare
DESCRIPTION:Come watch Nine Actors take on the Worst Nightmare! As they read from separate plays with an Improvisor\, a unique story unfolds. Bawdy\, Hilarious\, Bizarre. \nBring your suggestions for the box as we entertain with an Improv warm up. \nComfortable leather seating and social distancing in place.
URL:https://butteratl.com/event/actors-worst-nightmare/
LOCATION:Nick Conti?s Professional Actor?s Studio\, 2849 Piedmont Rd NE\, Atlanta\, GA\, 30305\, United States
CATEGORIES:Performing & Visual Arts
ATTACH;FMTTYPE=image/jpeg:https://butteratl.com/wp-content/uploads/2020/11/116201349_105987041208713_2546757567667623368_o.jpg
GEO:33.832596;-84.3676153
X-APPLE-STRUCTURED-LOCATION;VALUE=URI;X-ADDRESS=Nick Conti?s Professional Actor?s Studio 2849 Piedmont Rd NE Atlanta GA 30305 United States;X-APPLE-RADIUS=500;X-TITLE=2849 Piedmont Rd NE:geo:-84.3676153,33.832596
END:VEVENT
END:VCALENDAR