BEGIN:VCALENDAR
VERSION:2.0
PRODID:-//Butter.ATL - ECPv5.2.1//NONSGML v1.0//EN
CALSCALE:GREGORIAN
METHOD:PUBLISH
X-WR-CALNAME:Butter.ATL
X-ORIGINAL-URL:https://butteratl.com
X-WR-CALDESC:Events for Butter.ATL
BEGIN:VTIMEZONE
TZID:America/New_York
BEGIN:DAYLIGHT
TZOFFSETFROM:-0500
TZOFFSETTO:-0400
TZNAME:EDT
DTSTART:20200308T070000
END:DAYLIGHT
BEGIN:STANDARD
TZOFFSETFROM:-0400
TZOFFSETTO:-0500
TZNAME:EST
DTSTART:20201101T060000
END:STANDARD
END:VTIMEZONE
BEGIN:VEVENT
DTSTART;TZID=America/New_York:20201107T193000
DTEND;TZID=America/New_York:20201107T193000
DTSTAMP:20260424T071423
CREATED:20201104T203841Z
LAST-MODIFIED:20201104T203841Z
UID:2403-1604777400-1604777400@butteratl.com
SUMMARY:ACP Virtual Gala & Auction
DESCRIPTION:On Saturday\, November 7\, 2020\, Atlanta Celebrates Photography takes its 15th annual gala online and at-home. Guests are invited to join a virtual evening of comedy and auction of fine art photography\, while enjoying home delivery dining from some of metro Atlanta’s premier restaurants. Proceeds from the support the programs and services of ACP\, as well as the artists\, chefs\, and servers who help Atlanta thrive. The online auction features 20+ pieces of collection-worthy photography from local and national artists. The virtual gala features Dad’s Garage virtual comedy program\, and guest’s choice of home-delivered dining from The General Muir\, Wood’s Chapel BBQ\, Bread & Butterfly\, Talat Market\, Ticonderoga Club\, and White Bull. Ticket prices for the ACP Virtual Gala\, including dinner\, start at $200\, and donations of any amount can be made to join for the Dad’s Garage show only.
URL:https://butteratl.com/event/acp-virtual-gala-auction/
LOCATION:Atlanta Celebrates Photography\, 675 Drewry Street\, NE\, Atlanta\, GA\, 30306\, United States
CATEGORIES:Performing & Visual Arts
ATTACH;FMTTYPE=image/jpeg:https://butteratl.com/wp-content/uploads/2020/11/ACP-Gala-IG_wh.jpg
GEO:33.7774957;-84.3651717
X-APPLE-STRUCTURED-LOCATION;VALUE=URI;X-ADDRESS=Atlanta Celebrates Photography 675 Drewry Street NE Atlanta GA 30306 United States;X-APPLE-RADIUS=500;X-TITLE=675 Drewry Street\, NE:geo:-84.3651717,33.7774957
END:VEVENT
END:VCALENDAR